BEGIN:VCALENDAR
VERSION:2.0
PRODID:-//ChamberMaster//Event Calendar 2.0//EN
METHOD:PUBLISH
X-PUBLISHED-TTL:P3D
REFRESH-INTERVAL:P3D
CALSCALE:GREGORIAN
BEGIN:VEVENT
DTSTART:20180927T170000Z
DTEND:20180927T180000Z
X-MICROSOFT-CDO-ALLDAYEVENT:FALSE
SUMMARY:Municipal Approaches to Solar Energy Webinar
DESCRIPTION:Implementation\, presented by Rick Swan\, Executive Director (East Peoria Chamber of Commerce) and Fond du Lac Township Supervisor.\n\n\n\nIn this second webinar\, Rick Swan\, Fond du Lac Township Supervisor and Executive Director of the East Peoria Chamber of Commerce\, will cover his experiences with solar farm implementation and efforts in leading a community-supported solar panel installation\, following 2016 state legislation approving small to mid-sized solar operations.\n\n\n\nFor any questions or for reasonable accommodation\, please contact Anne Silvis at asilvis@illinois.edu more information.\n\n\n\nFor any questions or for reasonable accommodation\, please contact Anne Silvis at asilvis@illinois.edu more information.\n\n\n\nREGISTRATION is FREE --  https://web.extension.illinois.edu/registration/?RegistrationID=18987
X-ALT-DESC;FMTTYPE=text/html:<span style="color: rgb(29\, 33\, 41)\; font-family: Helvetica\, Arial\, sans-serif\; font-size: 14px\;">Implementation\, presented by Rick Swan\, Executive Director (East Peoria Chamber of Commerce) and Fond du Lac Township Supervisor.</span><br style="color: rgb(29\, 33\, 41)\; font-family: Helvetica\, Arial\, sans-serif\; font-size: 14px\;" />\n<br style="color: rgb(29\, 33\, 41)\; font-family: Helvetica\, Arial\, sans-serif\; font-size: 14px\;" />\n<span style="color: rgb(29\, 33\, 41)\; font-family: Helvetica\, Arial\, sans-serif\; font-size: 14px\;">In this second webinar\, Rick Swan\, Fond du Lac Township Supervisor and Executive Director of the East Peoria Chamber of Commerce\, will cover his experiences with solar farm implementation and efforts in leading a community-supported solar panel installation\, following 2016 state legislation approving small to mid-sized solar operations.</span><br style="color: rgb(29\, 33\, 41)\; font-family: Helvetica\, Arial\, sans-serif\; font-size: 14px\;" />\n<br style="color: rgb(29\, 33\, 41)\; font-family: Helvetica\, Arial\, sans-serif\; font-size: 14px\;" />\n<span style="color: rgb(29\, 33\, 41)\; font-family: Helvetica\, Arial\, sans-serif\; font-size: 14px\;">For any questions or for reasonable accommodation\, please contact Anne Silvis at asilvis@illinois.edu more information.</span><br style="color: rgb(29\, 33\, 41)\; font-family: Helvetica\, Arial\, sans-serif\; font-size: 14px\;" />\n<br style="color: rgb(29\, 33\, 41)\; font-family: Helvetica\, Arial\, sans-serif\; font-size: 14px\;" />\n<span style="color: rgb(29\, 33\, 41)\; font-family: Helvetica\, Arial\, sans-serif\; font-size: 14px\;">For any questions or for reasonable accommodation\, please contact Anne Silvis at asilvis@illinois.edu more information.</span><br style="color: rgb(29\, 33\, 41)\; font-family: Helvetica\, Arial\, sans-serif\; font-size: 14px\;" />\n<br style="color: rgb(29\, 33\, 41)\; font-family: Helvetica\, Arial\, sans-serif\; font-size: 14px\;" />\n<span style="color: rgb(29\, 33\, 41)\; font-family: Helvetica\, Arial\, sans-serif\; font-size: 14px\;">REGISTRATION is FREE --&gt\;&nbsp\;</span><a data-lynx-mode="hover" data-lynx-uri="https://l.facebook.com/l.php?u=https%3A%2F%2Fweb.extension.illinois.edu%2Fregistration%2F%3FRegistrationID%3D18987&amp\;h=AT3FNTWss6kEi2m_FmNA0ifB2hFekUJHPxlrKGGa3w9RKQsvNVTwfRg7wWhXd2qD6LMD-sTay9mfMdsA94xKCu_uao7YiMcKIhiHr8ea9pcUkXggYn0jisdNC8gX2C043NBWW69NUaJoH1LOJQ" href="https://web.extension.illinois.edu/registration/?RegistrationID=18987" rel="nofollow noopener" style="color: rgb(54\, 88\, 153)\; cursor: pointer\; text-decoration-line: none\; font-family: Helvetica\, Arial\, sans-serif\; font-size: 14px\;" target="_blank">https://web.extension.illinois.edu/registration/?RegistrationID=18987</a>
LOCATION:
UID:e.526.5610
SEQUENCE:3
DTSTAMP:20260421T052846Z
URL:https://business.epcc.org/events/details/municipal-approaches-to-solar-energy-webinar-5610
END:VEVENT

END:VCALENDAR
