BEGIN:VCALENDAR
VERSION:2.0
PRODID:-//ChamberMaster//Event Calendar 2.0//EN
METHOD:PUBLISH
X-PUBLISHED-TTL:P3D
REFRESH-INTERVAL:P3D
CALSCALE:GREGORIAN
BEGIN:VEVENT
DTSTART:20180427T223000Z
DTEND:20180428T033000Z
X-MICROSOFT-CDO-ALLDAYEVENT:FALSE
SUMMARY:Murder at the Moonlight Manor - A Murder Mystery Event to DIE For
DESCRIPTION:Everyone's looking to get away\, especially if you've booked your weekend at the   Moonlight Manor.  Built on a haunted estate\, this place is known less for the people who come for the weekend and more for those who stay for all eternity. \n\n\n\nIf that doesn't intrigue you\, just wait until  you meet the staff.  So come on and book your stay.  We're dying to have you.\n\n \n\nJoin Us for:\n\n  Murder & Mayhem     \n\n  Cash Bar    \n\n  Silent Auction      \n\n  A Deadly Good Time!\n\n \n\nProceeds to benefit the programs & services of the South Side Office of Concern\n\n \n\nMurder Mystery presented by Without a Net Entertainment\n\n \n\nQuestions or to reserve your tickets:\n\nContact Kristen Berchtold at 309/222-2751 or kberchtold@southsideofficeofconcern.org
X-ALT-DESC;FMTTYPE=text/html:<strong><span style="font-family: times new roman\,serif\;"><span style="font-size: 14pt\;">Everyone&#39\;s looking to get away\, especially if you&#39\;ve booked your weekend at the&nbsp\;&nbsp\; Moonlight Manor.&nbsp\; Built on a haunted estate\, this place is known less for the people who come for the weekend and more for those who stay for all eternity. </span></span></strong><br />\n<br />\n<strong><span style="font-family: times new roman\,serif\;"><span style="font-size: 14pt\;">If that doesn&#39\;t intrigue you\, just wait until&nbsp\; you meet the staff.&nbsp\; So come on and book your stay.&nbsp\; We&#39\;re dying to have you.</span></span></strong><br />\n&nbsp\;<br />\n<strong><em><span style="font-family: times new roman\,serif\;"><span style="font-size: 14pt\;">Join Us for:</span></span></em></strong><br />\n<span style="font-family: symbol\;">&uml\;</span>&nbsp\;<strong><span style="font-family: times new roman\,serif\;"><span style="font-size: 14pt\;">Murder &amp\; Mayhem&nbsp\;&nbsp\;&nbsp\;&nbsp\; </span></span></strong><br />\n<span style="font-family: symbol\;">&uml\;</span>&nbsp\;<strong><span style="font-family: times new roman\,serif\;"><span style="font-size: 14pt\;">Cash Bar&nbsp\;&nbsp\;&nbsp\; </span></span></strong><br />\n<span style="font-family: symbol\;">&uml\;</span>&nbsp\;<strong><span style="font-family: times new roman\,serif\;"><span style="font-size: 14pt\;">Silent Auction&nbsp\;&nbsp\;&nbsp\;&nbsp\;&nbsp\; </span></span></strong><br />\n<span style="font-family: symbol\;">&uml\;</span>&nbsp\;<strong><span style="font-family: times new roman\,serif\;"><span style="font-size: 14pt\;">A Deadly Good Time!</span></span></strong><br />\n&nbsp\;<br />\n<strong><span style="font-family: times new roman\,serif\;"><span style="font-size: 14pt\;">Proceeds to benefit the programs &amp\; services of the South Side Office of Concern</span></span></strong><br />\n&nbsp\;<br />\n<strong><span style="font-family: times new roman\,serif\;"><span style="font-size: 14pt\;">Murder Mystery presented by Without a Net Entertainment</span></span></strong><br />\n&nbsp\;<br />\n<strong><span style="font-family: times new roman\,serif\;"><span style="font-size: 14pt\;">Questions or to reserve your tickets:</span></span></strong><br />\n<strong><span style="font-family: times new roman\,serif\;"><span style="font-size: 14pt\;">Contact Kristen Berchtold at 309/222-2751 or kberchtold@southsideofficeofconcern.org</span></span></strong><br />\n&nbsp\;<br />\n&nbsp\;
LOCATION:Holiday Inn & Suites\, Grand Prairie 7610 North Orange Prairie Road\, Peoria\, Illinois
UID:e.526.5461
SEQUENCE:3
DTSTAMP:20260421T182414Z
URL:https://business.epcc.org/events/details/murder-at-the-moonlight-manor-a-murder-mystery-event-to-die-for-5461
END:VEVENT

END:VCALENDAR
