BEGIN:VCALENDAR
VERSION:2.0
PRODID:-//ChamberMaster//Event Calendar 2.0//EN
METHOD:PUBLISH
X-PUBLISHED-TTL:P3D
REFRESH-INTERVAL:P3D
CALSCALE:GREGORIAN
BEGIN:VEVENT
DTSTART:20191026T230000Z
DTEND:20191027T030000Z
X-MICROSOFT-CDO-ALLDAYEVENT:FALSE
SUMMARY:Murder Mystery Dinner Show at East Port Banquet Center
DESCRIPTION:
X-ALT-DESC;FMTTYPE=text/html:
LOCATION:
UID:e.526.6240
SEQUENCE:3
DTSTAMP:20260420T111750Z
URL:https://business.epcc.org/events/details/murder-mystery-dinner-show-at-east-port-banquet-center-6240
END:VEVENT

END:VCALENDAR
