BEGIN:VCALENDAR
VERSION:2.0
PRODID:-//ChamberMaster//Event Calendar 2.0//EN
METHOD:PUBLISH
X-PUBLISHED-TTL:P3D
REFRESH-INTERVAL:P3D
CALSCALE:GREGORIAN
BEGIN:VEVENT
DTSTART:20180425T150000Z
DTEND:20180425T170000Z
X-MICROSOFT-CDO-ALLDAYEVENT:FALSE
SUMMARY:Navigating Tax Reform
DESCRIPTION:SCORE Peoria if offering the following workshop:\n\nNavigating Tax Reform\n \n\nWednesday\, April 25\, 2018   10:00 AM to 12:00 PM\n\nClifton Larson Allen   Conference Room - Suite 1100\n\nPNC Bank Building\n\n301 S. W. Adams St.\n\nPeoria\, IL 61602\n\nClifton Larson Allen (CLA) professional Mark M. Dalbey will provide an overview of the new tax legislation during a live presentation April 25\, 2018.\n\nTopics to be covered and discussion include\, but not limited to: \n\n- Learn how the major changes in the new tax law for individuals and how they will impact you\n\n- Learn how tax reform impacts your business operations and organizational structure opportunities\n\n- Learn how changes in the estate tax can impact you and your estate plan.\n\nThis workshop is FREE\, but registration is required.\n\nCall Peoria SCORE at 309-676-0755 or register online by clicking here.
X-ALT-DESC;FMTTYPE=text/html:<div style="text-align: center\;"><span style="font-size: 14px\;"><span style="font-family: arial\,helvetica\,sans-serif\;">SCORE Peoria if offering the following workshop:<br />\n<u><strong>Navigating Tax Reform</strong></u></span></span></div>\n&nbsp\;\n\n<div style="text-align: center\;"><span style="font-size: 14px\;"><span style="font-family: arial\,helvetica\,sans-serif\;">Wednesday\, April 25\, 2018 &ndash\; 10:00 AM to 12:00 PM<br />\nClifton Larson Allen &ndash\; Conference Room - Suite 1100<br />\nPNC Bank Building<br />\n301 S. W. Adams St.<br />\nPeoria\, IL 61602</span></span></div>\n\n<p><span style="font-size: 14px\;"><span style="font-family: arial\,helvetica\,sans-serif\;">Clifton Larson Allen (CLA) professional Mark M. Dalbey will provide an overview of the new tax legislation during a live presentation April 25\, 2018.<br />\nTopics to be covered and discussion include\, but not limited to:&nbsp\;<br />\n- Learn how the major changes in the new tax law for individuals and how they will impact you<br />\n- Learn how tax reform impacts your business operations and organizational structure opportunities<br />\n- Learn how changes in the estate tax can impact you and your estate plan.</span></span></p>\n\n<div style="text-align: center\;"><span style="font-size: 14px\;"><span style="font-family: arial\,helvetica\,sans-serif\;">This workshop is FREE\, but registration is required.<br />\nCall Peoria SCORE at 309-676-0755 or register online by <a href="https://conta.cc/2GlbLOA" target="_blank">clicking here</a>.</span></span></div>\n
LOCATION:Clifton Larson Allen Conference Room - Suite 1100 PNC Bank Building 301 S. W. Adams St. Peoria\, IL 61602
UID:e.526.5474
SEQUENCE:3
DTSTAMP:20260421T170018Z
URL:https://business.epcc.org/events/details/navigating-tax-reform-5474
END:VEVENT

END:VCALENDAR
