BEGIN:VCALENDAR
VERSION:2.0
PRODID:-//ChamberMaster//Event Calendar 2.0//EN
METHOD:PUBLISH
X-PUBLISHED-TTL:P3D
REFRESH-INTERVAL:P3D
CALSCALE:GREGORIAN
BEGIN:VEVENT
DTSTART:20150727T210000Z
DTEND:20150727T230000Z
X-MICROSOFT-CDO-ALLDAYEVENT:FALSE
SUMMARY:Neighborhood House 2nd Annual Back to School Health Eating Block Party
DESCRIPTION:The block party takes place in the Neighborhood House parking lots.  The block party will include healthy food\, games for school age children\, cooking demonstrations and school supply giveaways.  The Neighborhood House is located at 1020 S. Matthew Street Peoria\, IL 61605
X-ALT-DESC;FMTTYPE=text/html:<span style="color:black\;"><span style="font-family:arial\,sans-serif\;"><span style="font-size:12pt\;">The block party takes place in the Neighborhood House parking lots.&nbsp\; </span></span></span><span style="font-family:arial\,sans-serif\;"><span style="font-size:12.0pt\;">The block party will include healthy food\, games for school age children\, cooking demonstrations and school supply giveaways. </span></span><span style="color:black\;"><span style="font-family:arial\,sans-serif\;"><span style="font-size:12pt\;">&nbsp\;The Neighborhood House is located at 1020 S. Matthew Street Peoria\, IL 61605</span></span></span>
LOCATION:Neighborhood House Parking Lots
UID:e.526.1726
SEQUENCE:3
DTSTAMP:20260425T033118Z
URL:https://business.epcc.org/events/details/neighborhood-house-2nd-annual-back-to-school-health-eating-block-party-07-27-2015-1726
END:VEVENT

END:VCALENDAR
