BEGIN:VCALENDAR
VERSION:2.0
PRODID:-//ChamberMaster//Event Calendar 2.0//EN
METHOD:PUBLISH
X-PUBLISHED-TTL:P3D
REFRESH-INTERVAL:P3D
CALSCALE:GREGORIAN
BEGIN:VEVENT
DTSTART:20180609T140000Z
DTEND:20180609T170000Z
X-MICROSOFT-CDO-ALLDAYEVENT:FALSE
SUMMARY:Neighborhood House 4th Annual Gut Buster 5k
DESCRIPTION:The George Jacob Gut Buster is a 5k and fun run where participants eat and \n\ndrink their way through the warehouse district and downtown Peoria.\n\nRunners are encouraged to dress...and act as crazy as humanly possible!
X-ALT-DESC;FMTTYPE=text/html:<h2 class="font_2" style="margin: 0px\; padding: 0px\; border: 0px\; outline: 0px\; vertical-align: baseline\; background: 0px 0px\; font-variant-numeric: normal\; font-variant-east-asian: normal\; font-stretch: normal\; font-size: 27px\; line-height: normal\; font-family: anton\, sans-serif\; color: rgb(252\, 253\, 70)\; pointer-events: auto\; text-align: center\;"><span style="margin: 0px\; padding: 0px\; border: 0px\; outline: 0px\; vertical-align: baseline\; background: 0px 0px\;"><span style="margin: 0px\; padding: 0px\; border: 0px\; outline: 0px\; vertical-align: baseline\; background: 0px 0px\; text-shadow: rgba(0\, 0\, 0\, 0.4) 0px 4px 5px\;"><span style="margin: 0px\; padding: 0px\; border: 0px\; outline: 0px\; vertical-align: baseline\; background: 0px 0px\;"><span style="color:#000000\;">The&nbsp\;G</span><a href="https://www.gutbusterpeoria.com/blank" style="margin: 0px\; padding: 0px\; border: 0px\; outline: 0px\; vertical-align: baseline\; background: 0px 0px\; cursor: pointer\; text-decoration-line: none\; color: inherit\;" target="_self"><span style="color:#000000\;">eorge Jacob</span></a><span style="color:#000000\;">&nbsp\;Gut Buster is a 5k and fun run where participants eat and&nbsp\;</span></span></span></span></h2>\n\n<h2 class="font_2" style="margin: 0px\; padding: 0px\; border: 0px\; outline: 0px\; vertical-align: baseline\; background: 0px 0px\; font-variant-numeric: normal\; font-variant-east-asian: normal\; font-stretch: normal\; font-size: 27px\; line-height: normal\; font-family: anton\, sans-serif\; color: rgb(252\, 253\, 70)\; pointer-events: auto\; text-align: center\;"><span style="color:#000000\;"><span style="margin: 0px\; padding: 0px\; border: 0px\; outline: 0px\; vertical-align: baseline\; background: 0px 0px\;"><span style="margin: 0px\; padding: 0px\; border: 0px\; outline: 0px\; vertical-align: baseline\; background: 0px 0px\; text-shadow: rgba(0\, 0\, 0\, 0.4) 0px 4px 5px\;"><span style="margin: 0px\; padding: 0px\; border: 0px\; outline: 0px\; vertical-align: baseline\; background: 0px 0px\;">drink their&nbsp\;way through the warehouse district and downtown Peoria.</span></span></span></span></h2>\n\n<h2 class="font_2" style="margin: 0px\; padding: 0px\; border: 0px\; outline: 0px\; vertical-align: baseline\; background: 0px 0px\; font-variant-numeric: normal\; font-variant-east-asian: normal\; font-stretch: normal\; font-size: 27px\; line-height: normal\; font-family: anton\, sans-serif\; color: rgb(252\, 253\, 70)\; pointer-events: auto\; text-align: center\;"><span style="color:#000000\;"><span style="margin: 0px\; padding: 0px\; border: 0px\; outline: 0px\; vertical-align: baseline\; background: 0px 0px\;"><span style="margin: 0px\; padding: 0px\; border: 0px\; outline: 0px\; vertical-align: baseline\; background: 0px 0px\; text-shadow: rgba(0\, 0\, 0\, 0.4) 0px 4px 5px\;"><span style="margin: 0px\; padding: 0px\; border: 0px\; outline: 0px\; vertical-align: baseline\; background: 0px 0px\;">Runners are encouraged to dress...and act as crazy as humanly&nbsp\;possible!</span></span></span></span></h2>\n
LOCATION:
UID:e.526.5515
SEQUENCE:3
DTSTAMP:20260421T141010Z
URL:https://business.epcc.org/events/details/neighborhood-house-4th-annual-gut-buster-5k-5515
END:VEVENT

END:VCALENDAR
