BEGIN:VCALENDAR
VERSION:2.0
PRODID:-//ChamberMaster//Event Calendar 2.0//EN
METHOD:PUBLISH
X-PUBLISHED-TTL:P3D
REFRESH-INTERVAL:P3D
CALSCALE:GREGORIAN
BEGIN:VEVENT
DTSTART:20181027T230000Z
DTEND:20181028T030000Z
X-MICROSOFT-CDO-ALLDAYEVENT:FALSE
SUMMARY:Neighborhood House Steps of Joy Peoria
DESCRIPTION:Performing Arts Master Classes and Evenets (PAME) Presents:\n\nSteps of Joy Peoria\n\n\n\nHundreds of children dancing to change lives - Great number of studios performing - Illinois sports and media personalities on stage!\n\n\n\nBenefits Neighborhood House the Child and Adolescent Behavior Health Unity at Unity Point Health Methodist Hospital.\n\n\n\nstepsofjoypeoria.weebly.com
X-ALT-DESC;FMTTYPE=text/html:Performing Arts Master Classes and Evenets (PAME) Presents:<br />\nSteps of Joy Peoria<br />\n<br />\nHundreds of children dancing to change lives - Great number of studios performing - Illinois sports and media personalities on stage!<br />\n<br />\nBenefits Neighborhood House the Child and Adolescent Behavior Health Unity at Unity Point Health Methodist Hospital.<br />\n<br />\n<span style="font-family:times new roman\,serif\;"><span style="font-size:12.0pt\;"><a href="http://stepsofjoypeoria.weebly.com">stepsofjoypeoria.weebly.com</a></span></span>
LOCATION:Five Points Washington 360 N Wilmore Road Washington\, IL 61571
UID:e.526.5561
SEQUENCE:3
DTSTAMP:20260421T040701Z
URL:https://business.epcc.org/events/details/neighborhood-house-steps-of-joy-peoria-5561
END:VEVENT

END:VCALENDAR
