BEGIN:VCALENDAR
VERSION:2.0
PRODID:-//ChamberMaster//Event Calendar 2.0//EN
METHOD:PUBLISH
X-PUBLISHED-TTL:P3D
REFRESH-INTERVAL:P3D
CALSCALE:GREGORIAN
BEGIN:VEVENT
DTSTART;VALUE=DATE:20190618
DTEND;VALUE=DATE:20190619
TRANSP:TRANSPARENT
X-MICROSOFT-CDO-ALLDAYEVENT:TRUE
SUMMARY:Neuropathy Seminar with One Degree Functional Health
DESCRIPTION:One Degree Functional Health is having a Neuropathy Seminar.\n\n\n\nThe tingling and numbness in your hands or feet\, the poor balance issues you are experiencing\, the extreme sensitivity to touch\, or the restless legs that stop you from getting a good night's sleep\, could be the early onset of neuropathy. Neuropathy is a debilitating nerve condition that can cause all of the above-mentioned issues and greatly impacts quality of life. Treatment of neuropathy is essential because nerve damage can be permanent and can even accelerate into amputation. Learn more about peripheral neuropathy on our website--www.onedegreehealth.net.\n\n\n\nThe seminar will focus on how to naturally heal the underlying cause of foot and hand pain\, numbness\, tingling sensations\, and poor balance. Following the seminar\, attendees will have the opportunity to book an exam with the doctor. This treatment is a completely different approach to medicine as Dr. Weinman aims to get to the root cause of the issue and not just cover up the symptoms.\n\n\n\nCome to this seminar to learn new\, natural options as there is hope for neuropathy! Space is limited so reserve a seat today by calling 309-698-2500.
X-ALT-DESC;FMTTYPE=text/html:One Degree Functional Health is having a Neuropathy Seminar.<br />\n<br />\nThe tingling and numbness in your hands or feet\, the poor balance issues you are experiencing\, the extreme sensitivity to touch\, or the restless legs that stop you from getting a good night&#39\;s sleep\, could be the early onset of neuropathy. Neuropathy is a debilitating nerve condition that can cause all of the above-mentioned issues and greatly impacts quality of life. Treatment of neuropathy is essential because nerve damage can be permanent and can even accelerate into amputation. Learn more about peripheral neuropathy on our website--www.onedegreehealth.net.<br />\n<br />\nThe seminar will focus on how to naturally heal the underlying cause of foot and hand pain\, numbness\, tingling sensations\, and poor balance. Following the seminar\, attendees will have the opportunity to book an exam with the doctor. This treatment is a completely different approach to medicine as Dr. Weinman aims to get to the root cause of the issue and not just cover up the symptoms.<br />\n<br />\nCome to this seminar to learn new\, natural options as there is hope for neuropathy! Space is limited so reserve a seat today by calling 309-698-2500.
LOCATION:One Degree Functional Health 1100 E. Washington St. East Peoria\, IL 61611
UID:e.526.6096
SEQUENCE:3
DTSTAMP:20260420T153330Z
URL:https://business.epcc.org/events/details/neuropathy-seminar-with-one-degree-functional-health-6096
END:VEVENT

END:VCALENDAR
