BEGIN:VCALENDAR
VERSION:2.0
PRODID:-//ChamberMaster//Event Calendar 2.0//EN
METHOD:PUBLISH
X-PUBLISHED-TTL:P3D
REFRESH-INTERVAL:P3D
CALSCALE:GREGORIAN
BEGIN:VEVENT
DTSTART:20180410T140000Z
DTEND:20180410T190000Z
X-MICROSOFT-CDO-ALLDAYEVENT:FALSE
SUMMARY:New Millennium Institute's College\, Career & Community Expo
DESCRIPTION:You are invited to participate in this exciting expo. The expo is designed to connect colleges\, employers and community resources to graduating high school seniors who are seeking training\, employment and community resources. We are expecting 200-300 high school seniors to attend.   \n\n \n\nIf you are interested in being a vendor\, please contact New Millennium Institute at (309) 208-8778. Attendees will have an opportunity to have face to face interactions with college professionals\, employers and other community service providers that promote personal\, academic and career success and self-sufficiency.
X-ALT-DESC;FMTTYPE=text/html:<span style="font-size: 13.5pt\;"><span style="font-family: calibri\,sans-serif\;"><span style="color: rgb(16\, 65\, 96)\;">You are invited to participate in this exciting expo. The expo is designed to connect colleges\, employers and community resources to graduating high school seniors who are seeking training\, employment and community resources. <em>We are expecting 200-300 high school seniors to attend.&nbsp\;&nbsp\; </em></span></span></span><br />\n&nbsp\;<br />\n<span style="font-size: 13.5pt\;"><span style="font-family: calibri\,sans-serif\;"><span style="color: rgb(16\, 65\, 96)\;">If you are interested in being a vendor\, please contact New Millennium Institute at (309) 208-8778. Attendees will have an opportunity to have face to face interactions with college professionals\, employers and other community service providers that promote personal\, academic and career success and self-sufficiency.&nbsp\;</span></span></span><br />\n<br />\n&nbsp\;
LOCATION:Woodruff Career and Technical Center 1800 NE Perry Peoria\, IL. 61603
UID:e.526.4459
SEQUENCE:3
DTSTAMP:20260421T170526Z
URL:https://business.epcc.org/events/details/new-millennium-institute-s-college-career-community-expo-4459
END:VEVENT

END:VCALENDAR
