BEGIN:VCALENDAR
VERSION:2.0
PRODID:-//ChamberMaster//Event Calendar 2.0//EN
METHOD:PUBLISH
X-PUBLISHED-TTL:P3D
REFRESH-INTERVAL:P3D
CALSCALE:GREGORIAN
BEGIN:VEVENT
DTSTART:20170101T020000Z
DTEND:20170101T080000Z
X-MICROSOFT-CDO-ALLDAYEVENT:FALSE
SUMMARY:New Years Eve with Steady Flow
DESCRIPTION:99.9 WWCT\, Steady Flow & Limelight Eventplex Presents:\n\nSteady Flow\n\nFiLiBuStA\, Boogie T.\, Herculez\n\nSaturday Dec 31\, 2016\n\nDoors: 7:00 PM \n\nShow: 8:00 PM\n\n17 and over\n\n$12 - $79
X-ALT-DESC;FMTTYPE=text/html:<div>99.9 WWCT\, Steady Flow &amp\; Limelight Eventplex Presents:</div>\n\n<div>Steady Flow</div>\n\n<div>FiLiBuStA\, Boogie T.\, Herculez</div>\n\n<div><span style="font-family: inherit\; font-size: inherit\;">Saturday</span>&nbsp\;<span style="font-family: inherit\; font-size: inherit\;">Dec 31</span><span style="font-family: inherit\; font-size: inherit\;">\, 2016</span></div>\n\n<p>Doors: 7:00 PM&nbsp\;<br />\nShow: 8:00 PM</p>\n\n<p>17 and over</p>\n\n<div>$12 - $79</div>\n
LOCATION:Limelight Eventplex
UID:e.526.3494
SEQUENCE:3
DTSTAMP:20260422T141538Z
URL:https://business.epcc.org/events/details/new-years-eve-with-steady-flow-3494
END:VEVENT

END:VCALENDAR
