BEGIN:VCALENDAR
VERSION:2.0
PRODID:-//ChamberMaster//Event Calendar 2.0//EN
METHOD:PUBLISH
X-PUBLISHED-TTL:P3D
REFRESH-INTERVAL:P3D
CALSCALE:GREGORIAN
BEGIN:VEVENT
DTSTART;VALUE=DATE:20180908
DTEND;VALUE=DATE:20180909
TRANSP:TRANSPARENT
X-MICROSOFT-CDO-ALLDAYEVENT:TRUE
SUMMARY:Notre Dame Football Bus Trip
DESCRIPTION:MSGR. E.L. GRZYBOWSKI KNIGHTS OF COLUMBUS COUNCIL #7580\n\nPRESENTS A NOTRE DAME BUS TRIP\n\n\n\nSeptember 8th\, 2018 @ 3:30 PM\n\n	Notre Dame Fighting Irish vs Ball State Cardinals\n	Bus Leaves St. Monica's Church at 7:00 AM\n	Bus Should Leave Stadium around 7:00 PM\n	Tickets Include: Bus Trip\, Drinks on the bus\, Game Ticket\, & Tailgate Party Prior to Game\n	All money made after expenses will benefit the East Peoria Nativity Display Assn.\, which is set up and taken down every year by the East Peoria Knights of Columbus Council #7580
X-ALT-DESC;FMTTYPE=text/html:MSGR. E.L. GRZYBOWSKI KNIGHTS OF COLUMBUS COUNCIL #7580<br />\nPRESENTS A NOTRE DAME BUS TRIP<br />\n<br />\nSeptember 8th\, 2018 @ 3:30 PM\n<ul>\n	<li>Notre Dame Fighting Irish vs Ball State Cardinals</li>\n	<li>Bus Leaves St. Monica&#39\;s Church at 7:00 AM</li>\n	<li>Bus Should Leave Stadium around 7:00 PM</li>\n	<li>Tickets Include: Bus Trip\, Drinks on the bus\, Game Ticket\, &amp\; Tailgate Party Prior to Game</li>\n	<li>All money made after expenses will benefit the East Peoria Nativity Display Assn.\, which is set up and taken down every year by the East Peoria Knights of Columbus Council #7580</li>\n</ul>\n
LOCATION:
UID:e.526.5573
SEQUENCE:3
DTSTAMP:20260421T052858Z
URL:https://business.epcc.org/events/details/notre-dame-football-bus-trip-5573
END:VEVENT

END:VCALENDAR
