BEGIN:VCALENDAR
VERSION:2.0
PRODID:-//ChamberMaster//Event Calendar 2.0//EN
METHOD:PUBLISH
X-PUBLISHED-TTL:P3D
REFRESH-INTERVAL:P3D
CALSCALE:GREGORIAN
BEGIN:VEVENT
DTSTART:20181027T003000Z
DTEND:20181027T030000Z
X-MICROSOFT-CDO-ALLDAYEVENT:FALSE
SUMMARY:Once Upon a Mattress - Caterpillar Mixed Chorus Production
DESCRIPTION:Caterpillar Employees Mixed Chorus Announces 77th Anniversary Production\n\n"Once Upon a Mattress" will be featured performance\n\n\n\n\n\n\n\nThe Caterpillar Employees Mixed Chorus (CEMC) is celebrating its 77th anniversary in 2018 with "Once Upon a Mattress\, directed by Paula Graves\, at Eastlight Theatre Oct. 25   28\, 2018.\n\n \n\nPerformances are scheduled Thursday\, Oct. 25 through Sunday\, Oct. 28. Show times are 7:30 p.m. (CST) Oct. 25   27\, with a 2:00 p.m. (CST) matinee on Oct. 27 and Oct. 28. Hosting this year's production is Eastlight Theatre at East Peoria High School\, located at 1401 E. Washington St.\, East Peoria\, Illinois. Tickets are $11.\n\n\n\n\n\nTicket sales begin Wednesday\, Sept. 26\, online at www.eastlighttheatre.com/tickets. The Eastlight Theatre Box Office located at the Festival of Lights Building\, 2200 E. Washington St.\, East Peoria\, Ill. will begin selling tickets Monday\, Oct\, 22\; and tickets will also be available by phone (699-7469) that day.\n\n\n\n\n\nThis production is based on the Princess and the Pea fairytale.  \n\n \n\nONCE UPON A MATTRESS with music by MARY RODGERS\, lyrics by MARSHAL BARER\, and book by JAY THOMPSON\, DEAN FULLER\, and MARSHALL BARER. \n\n\n\n\n\nONCE UPON A MATTRESS is presented through special arrangement with R & H Theatricals: http://www.rnh.com.\n\n\n\n\n\n \n\nAbout Caterpillar Employees Mixed Chorus\n\n\n\n\n\nThe Caterpillar Employees Mixed Chorus was organized on October 29\, 1941. The club's first appearance was at a Christmas program in the East Peoria HH Theatre. The Chorus was founded as a musical outlet for employees\, retirees\, and dependents to foster and promote the love of music for the enjoyment of employees and their families. Caterpillar Inc. has sponsored the Employees Mixed Chorus for the past 77 years\, making it the oldest employee activity of its kind in the world. Every fall the Chorus presents a major musical production with additional Chorus musical activities including a Spring Variety Show performed at local retirement communities.
X-ALT-DESC;FMTTYPE=text/html:<strong><span style="font-family:calibri\,sans-serif\;">Caterpillar Employees Mixed Chorus Announces 77th Anniversary Production</span></strong><br />\n<em><span style="font-family:calibri\,sans-serif\;">&ldquo\;Once Upon a Mattress&rdquo\; will be featured performance</span></em><br />\n<br />\n<br />\n<br />\n<span style="font-family:calibri\,sans-serif\;">The Caterpillar Employees Mixed Chorus (CEMC) is celebrating its 77th anniversary in 2018 with &ldquo\;Once Upon a Mattress\, directed by Paula Graves\, at Eastlight Theatre Oct. 25 &ndash\; 28\, 2018.</span><br />\n&nbsp\;<br />\n<span style="font-family:calibri\,sans-serif\;">Performances are scheduled Thursday\, Oct. 25 through Sunday\, Oct. 28. Show times are 7:30 p.m. (CST) Oct. 25 &ndash\; 27\, with a 2:00 p.m. (CST) matinee on Oct. 27 and Oct. 28. Hosting this year&rsquo\;s production is Eastlight Theatre at East Peoria High School\, located at 1401 E. Washington St.\, East Peoria\, Illinois. Tickets are $11.</span><br />\n<br />\n<br />\n<span style="font-family:calibri\,sans-serif\;">Ticket sales begin Wednesday\, Sept. 26\, online at </span><a href="file:///C:/Users/mark/AppData/Local/Microsoft/Windows/Temporary%20Internet%20Files/Content.Outlook/3XTI3C0P/www.eastlighttheatre.com/tickets"><span style="font-family:calibri\,sans-serif\;">www.eastlighttheatre.com/tickets</span></a><span style="font-family:calibri\,sans-serif\;">. The Eastlight Theatre Box Office located at the Festival of Lights Building\, 2200 E. Washington St.\, East Peoria\, Ill. will begin selling tickets Monday\, Oct\, 22\; and tickets will also be available by phone (699-7469) that day.</span><br />\n<br />\n<br />\n<span style="color:windowtext\;"><span style="font-family:calibri\,sans-serif\;">This production is based on the Princess and the Pea fairytale.&nbsp\; </span></span><br />\n&nbsp\;<br />\n<span style="color:windowtext\;"><span style="font-family:calibri\,sans-serif\;">ONCE UPON A MATTRESS with music by MARY RODGERS\, lyrics by MARSHAL BARER\, and book by JAY THOMPSON\, DEAN FULLER\, and MARSHALL BARER. </span></span><br />\n<br />\n<br />\nONCE UPON A MATTRESS is presented through special arrangement with R &amp\; H Theatricals: <a href="http://www.rnh.com/">http://www.rnh.com</a>.<br />\n<br />\n<br />\n&nbsp\;<br />\n<strong><span style="font-size:10.0pt\;">About Caterpillar Employees Mixed Chorus</span></strong><br />\n<br />\n<br />\n<span style="font-size:12.0pt\;">The Caterpillar Employees Mixed Chorus was organized on October 29\, 1941. The club&#39\;s first appearance was at a Christmas program in the East Peoria HH Theatre. The Chorus was founded as a musical outlet for employees\, retirees\, and dependents to foster and promote the love of music for the enjoyment of employees and their families. Caterpillar Inc. has sponsored the Employees Mixed Chorus for the past 77 years\, making it the oldest employee activity of its kind in the world. Every fall the Chorus presents a major musical production with additional Chorus musical activities including a Spring Variety Show performed at local retirement communities.</span>
LOCATION:Eastlight Theatre 1401 E. Washington St. East Peoria\, Illinois
UID:e.526.5632
SEQUENCE:3
DTSTAMP:20260421T053703Z
URL:https://business.epcc.org/events/details/once-upon-a-mattress-caterpillar-mixed-chorus-production-10-26-2018-5632
END:VEVENT

END:VCALENDAR
