BEGIN:VCALENDAR
VERSION:2.0
PRODID:-//ChamberMaster//Event Calendar 2.0//EN
METHOD:PUBLISH
X-PUBLISHED-TTL:P3D
REFRESH-INTERVAL:P3D
CALSCALE:GREGORIAN
BEGIN:VEVENT
DTSTART:20180407T120000Z
DTEND:20180407T170000Z
X-MICROSOFT-CDO-ALLDAYEVENT:FALSE
SUMMARY:Open House for Prospective Students
DESCRIPTION:Anyone interested in pursuing a career in nursing is welcome to attend the Saint Francis Medical Center College of Nursing Spring Open House Saturday\, April 7 from 9 a.m.   Noon\, 511 NE Greenleaf Street in Peoria. \n\nFind out about the college's different degree programs and other information\, including financial aid and assistance programs\, online courses\, and student services. Tours of the campus will also be available\, and current students will be on hand to answer questions. \n\nFree parking is available in Medi-Park 2. Visit sfmccon.edu for more information about the school. Media is welcome to attend.
X-ALT-DESC;FMTTYPE=text/html:<span style="font-size: 10pt\;"><span style="font-family: tahoma\,sans-serif\;">Anyone interested in pursuing a career in nursing is welcome to attend the Saint Francis Medical Center College of Nursing Spring Open House Saturday\, April 7 from 9 a.m. &ndash\; Noon\, 511 NE Greenleaf Street in Peoria. </span></span><br />\n<span style="font-size: 10pt\;"><span style="font-family: tahoma\,sans-serif\;">Find out about the college&rsquo\;s different degree programs and other information\, including financial aid and assistance programs\, online courses\, and student services. Tours of the campus will also be available\, and current students will be on hand to answer questions. </span></span><br />\n<span style="font-size: 10pt\;"><span style="font-family: tahoma\,sans-serif\;">Free parking is available in Medi-Park 2. Visit </span></span><span style="font-size: 11pt\;"><span style="font-family: calibri\,sans-serif\;"><a href="http://www.sfmccon.edu/"><span style="font-size: 10pt\;"><span style="font-family: tahoma\,sans-serif\;"><span style="color: rgb(5\, 99\, 193)\;">sfmccon.edu</span></span></span></a></span></span><span style="font-size: 10pt\;"><span style="font-family: tahoma\,sans-serif\;"> for more information about the school. Media is welcome to attend.</span></span>
LOCATION:
UID:e.526.5467
SEQUENCE:3
DTSTAMP:20260421T165925Z
URL:https://business.epcc.org/events/details/open-house-for-prospective-students-5467
END:VEVENT

END:VCALENDAR
