BEGIN:VCALENDAR
VERSION:2.0
PRODID:-//ChamberMaster//Event Calendar 2.0//EN
METHOD:PUBLISH
X-PUBLISHED-TTL:P3D
REFRESH-INTERVAL:P3D
CALSCALE:GREGORIAN
BEGIN:VEVENT
DTSTART:20180502T170000Z
DTEND:20180502T220000Z
X-MICROSOFT-CDO-ALLDAYEVENT:FALSE
SUMMARY:Opening Day at the Wheels O Time Museum
DESCRIPTION:Opening Day at the Wheels O' Time Museum
X-ALT-DESC;FMTTYPE=text/html:<div>Opening Day at the Wheels O&#39\; Time Museum</div>\n\n<div class="_ht-" style="text-align: center\;">&nbsp\;</div>\n
LOCATION:Dunlap\, Illinois
UID:e.526.5485
SEQUENCE:3
DTSTAMP:20260421T170207Z
URL:https://business.epcc.org/events/details/opening-day-at-the-wheels-o-time-museum-5485
END:VEVENT

END:VCALENDAR
