BEGIN:VCALENDAR
VERSION:2.0
PRODID:-//ChamberMaster//Event Calendar 2.0//EN
METHOD:PUBLISH
X-PUBLISHED-TTL:P3D
REFRESH-INTERVAL:P3D
CALSCALE:GREGORIAN
BEGIN:VEVENT
DTSTART:20180523T233000Z
DTEND:20180524T010000Z
X-MICROSOFT-CDO-ALLDAYEVENT:FALSE
SUMMARY:Opioid Townhall Meeting
DESCRIPTION:Combating The Crisis\n\nLearn how you can make a difference!\n\nOpen to area residents\, first responders\, medical professionals\,\n\nelected & community leaders\n\nSponsored by the East Peoria Fire Department
X-ALT-DESC;FMTTYPE=text/html:<div style="text-align: center\;"><span style="font-size:12px\;"><strong><span style="font-size:14px\;">Combating The Crisis</span></strong><br />\nLearn how you can make a difference!<br />\n<strong>Open to area residents\, first responders\, medical professionals\,<br />\nelected &amp\; community leaders</strong><br />\nSponsored by the East Peoria Fire Department</span></div>\n
LOCATION:
UID:e.526.5486
SEQUENCE:3
DTSTAMP:20260421T153635Z
URL:https://business.epcc.org/events/details/opioid-townhall-meeting-5486
END:VEVENT

END:VCALENDAR
