BEGIN:VCALENDAR
VERSION:2.0
PRODID:-//ChamberMaster//Event Calendar 2.0//EN
METHOD:PUBLISH
X-PUBLISHED-TTL:P3D
REFRESH-INTERVAL:P3D
CALSCALE:GREGORIAN
BEGIN:VEVENT
DTSTART:20180603T190000Z
DTEND:20180603T210000Z
X-MICROSOFT-CDO-ALLDAYEVENT:FALSE
SUMMARY:OSF Healthcare National Cancer Survivors Day Celebration
DESCRIPTION:Sunday\, June 3 is National Cancer Survivors Day. OSF HealthCare Saint Francis Medical Center Cancer Support Services is recognizing survivors with a special celebration at George L. Luthy Memorial Botanical Garden.\n\n\n\nThe event takes place from 2-4 p.m. with a butterfly release at 3 p.m. Butterflies are a symbol of renewal\, joy and new beginnings. "It really signifies what survivorship means\," says Kathi Copelen\, OSF Saint Francis Cancer Services Coordinator. \n\n\n\nThe public and media are welcome to attend. An RSVP is requested from the public\, (309) 308-0200. Refreshments will be served.
X-ALT-DESC;FMTTYPE=text/html:<span style="font-family:tahoma\,sans-serif\;"><span style="font-size:10.0pt\;">Sunday\, June 3 is National Cancer Survivors Day. OSF HealthCare Saint Francis Medical Center Cancer Support Services is recognizing survivors with a special celebration at George L. Luthy Memorial Botanical Garden.</span></span><br />\n<br />\n<span style="font-family:tahoma\,sans-serif\;"><span style="font-size:10.0pt\;">The event takes place from 2-4 p.m. with a butterfly release at 3 p.m. Butterflies are a symbol of renewal\, joy and new beginnings. &ldquo\;It really signifies what survivorship means\,&rdquo\; says Kathi Copelen\, OSF Saint Francis Cancer Services Coordinator. </span></span><br />\n<br />\n<span style="font-family:tahoma\,sans-serif\;"><span style="font-size:10.0pt\;">The public and media are welcome to attend. An RSVP is requested from the public\, (309) 308-0200. Refreshments will be served.</span></span>
LOCATION:Luthy Botanical Garden 2520 N. Prospect Road Peoria\, IL 61603
UID:e.526.5512
SEQUENCE:3
DTSTAMP:20260421T141127Z
URL:https://business.epcc.org/events/details/osf-healthcare-national-cancer-survivors-day-celebration-5512
END:VEVENT

END:VCALENDAR
