BEGIN:VCALENDAR
VERSION:2.0
PRODID:-//ChamberMaster//Event Calendar 2.0//EN
METHOD:PUBLISH
X-PUBLISHED-TTL:P3D
REFRESH-INTERVAL:P3D
CALSCALE:GREGORIAN
BEGIN:VEVENT
DTSTART:20180524T233000Z
DTEND:20180525T003000Z
X-MICROSOFT-CDO-ALLDAYEVENT:FALSE
SUMMARY:OSF Healthcare Stroke Education
DESCRIPTION:You have questions. We have answers. Every month the Illinois Neurological Institute (INI) hosts a free\, informative town-hall discussion about important neurological issues that might affect you\, your family\, or your friends. \n\nNeurological conditions can come in many forms and interfere with your well-being in several ways. Knowing how to recognize them\, what to expect when they develop\, and how to treat them can make all the difference.\n\nWe think the more you know\, the healthier and safer you and the people around you will be. \n\nJoin specialists in neurology and neurosurgery to learn more about a single topic each month. The series is free and open to the public.
X-ALT-DESC;FMTTYPE=text/html:<p style="margin: 0px 0px 10px\; padding: 0px\; line-height: 1.3em\; color: rgb(66\, 87\, 104)\; font-family: Lato\, sans-serif\; font-size: 14px\; letter-spacing: 0.1px\;">You have questions. We have answers. Every month the Illinois Neurological Institute (INI) hosts a free\, informative town-hall discussion about important neurological issues that might affect you\, your family\, or your friends.&nbsp\;</p>\n\n<p style="margin: 0px 0px 10px\; padding: 0px\; line-height: 1.3em\; color: rgb(66\, 87\, 104)\; font-family: Lato\, sans-serif\; font-size: 14px\; letter-spacing: 0.1px\;">Neurological conditions can come in many forms and interfere with your well-being in several ways. Knowing how to recognize them\, what to expect when they develop\, and how to treat them can make all the difference.</p>\n\n<p style="margin: 0px 0px 10px\; padding: 0px\; line-height: 1.3em\; color: rgb(66\, 87\, 104)\; font-family: Lato\, sans-serif\; font-size: 14px\; letter-spacing: 0.1px\;">We think the more you know\, the healthier and safer you and the people around you will be.&nbsp\;</p>\n\n<p style="margin: 0px 0px 10px\; padding: 0px\; line-height: 1.3em\; color: rgb(66\, 87\, 104)\; font-family: Lato\, sans-serif\; font-size: 14px\; letter-spacing: 0.1px\;">Join specialists in neurology and neurosurgery to learn more about a single topic each month.&nbsp\;The series is&nbsp\;free and open to the public.&nbsp\;</p>\n
LOCATION:10 St Clare Ct\, Washington\, IL
UID:e.526.5500
SEQUENCE:3
DTSTAMP:20260421T170117Z
URL:https://business.epcc.org/events/details/osf-healthcare-stroke-education-5500
END:VEVENT

END:VCALENDAR
