BEGIN:VCALENDAR
VERSION:2.0
PRODID:-//ChamberMaster//Event Calendar 2.0//EN
METHOD:PUBLISH
X-PUBLISHED-TTL:P3D
REFRESH-INTERVAL:P3D
CALSCALE:GREGORIAN
BEGIN:VEVENT
DTSTART:20180809T213000Z
DTEND:20180809T230000Z
X-MICROSOFT-CDO-ALLDAYEVENT:FALSE
SUMMARY:OSF Urgo Ribbon Cutting
DESCRIPTION:Join us for a ribbon cutting at OSF Healthcare Urgent Care Clinic at 133 Spinder Drive in East Peoria!
X-ALT-DESC;FMTTYPE=text/html:Join us for a ribbon cutting at OSF Healthcare Urgent Care Clinic at 133 Spinder Drive in East Peoria!
LOCATION:133 Spinder Drive East Peoria\, IL 61611
UID:e.526.5563
SEQUENCE:3
DTSTAMP:20260421T083230Z
URL:https://business.epcc.org/events/details/osf-urgo-ribbon-cutting-5563
END:VEVENT

END:VCALENDAR
