BEGIN:VCALENDAR
VERSION:2.0
PRODID:-//ChamberMaster//Event Calendar 2.0//EN
METHOD:PUBLISH
X-PUBLISHED-TTL:P3D
REFRESH-INTERVAL:P3D
CALSCALE:GREGORIAN
BEGIN:VEVENT
DTSTART:20151017T140000Z
DTEND:20151017T210000Z
X-MICROSOFT-CDO-ALLDAYEVENT:FALSE
SUMMARY:OSF Women's Lifestyle Show
DESCRIPTION:
X-ALT-DESC;FMTTYPE=text/html:
LOCATION:
UID:e.526.1673
SEQUENCE:3
DTSTAMP:20260424T215657Z
URL:https://business.epcc.org/events/details/osf-women-s-lifestyle-show-10-17-2015-1673
END:VEVENT

END:VCALENDAR
