BEGIN:VCALENDAR
VERSION:2.0
PRODID:-//ChamberMaster//Event Calendar 2.0//EN
METHOD:PUBLISH
X-PUBLISHED-TTL:P3D
REFRESH-INTERVAL:P3D
CALSCALE:GREGORIAN
BEGIN:VEVENT
DTSTART:20160901T123000Z
DTEND:20160901T140000Z
X-MICROSOFT-CDO-ALLDAYEVENT:FALSE
SUMMARY:PALM Labor Day Salute Breakfast
DESCRIPTION:A 30 year Tradition -- PALM's Labor Day Salute Breakfast\n\nKickoff the Labor Day weekend at the Labor Day Breakfast.\n\n"Strong Labor...Thriving Community...Our Responsibility"\n\nThat's the message this year's keynote speaker\, Jeff Griffin\, will deliver.  Mr. Griffin is the President & CEO of both the Chamber of Commerce and CEO Council. \n\n \n\nJoin us 7:30a.m. - 9:00a.m. on Thursday\, September 1\, 2016 at the Par-A-Dice Hotel in East Peoria.\n\n \n\nRegistration forms available here.\n\nSponsorship forms available here.\n\n \n\nIf want to pay online via credit card\, then go to Eventbrite.\n\n \n\nDeadline is August 26\, 2016
X-ALT-DESC;FMTTYPE=text/html:<h2>A 30 year Tradition -- PALM&#39\;s Labor Day Salute Breakfast</h2>\n\n<div>Kickoff the Labor Day weekend at the Labor Day Breakfast.</div>\n\n<h2 style="font-style: italic\;">&quot\;Strong Labor...Thriving Community...Our Responsibility&quot\;</h2>\n\n<div>That&#39\;s the message this year&#39\;s keynote speaker\, Jeff Griffin\,&nbsp\;will deliver.&nbsp\;&nbsp\;Mr. Griffin is the President &amp\; CEO of both the Chamber of Commerce and CEO Council.&nbsp\;<br />\n&nbsp\;</div>\n\n<div>Join us 7:30a.m. - 9:00a.m. on Thursday\, September 1\, 2016 at the Par-A-Dice Hotel in East Peoria.</div>\n\n<div>&nbsp\;</div>\n\n<div>Registration forms available <a href="http://www.better-built.us/_data/files/Registration%20invitation.pdf">here.</a></div>\n\n<div>Sponsorship forms available <a href="http://www.better-built.us/_data/files/sponsorship%20flyer.pdf">here</a>.</div>\n\n<div>&nbsp\;</div>\n\n<div>If want to pay online via credit card\, then go to <a href="https://www.eventbrite.com/e/palm-labor-day-salute-breakfast-tickets-27220239469?aff=utm_source%3Deb_email%26utm_medium%3Demail%26utm_campaign%3Dnew_event_email&amp\;utm_term=eventurl_text">Eventbrite</a>.</div>\n\n<div>&nbsp\;</div>\n\n<div><span class="marker">Deadline is August 26\, 2016</span></div>\n
LOCATION:Par-A-Dice Hotel 21 Blackjack Blvd. East Peoria\, IL 61611
UID:e.526.3241
SEQUENCE:3
DTSTAMP:20260422T201216Z
URL:https://business.epcc.org/events/details/palm-labor-day-salute-breakfast-09-01-2016-3241
END:VEVENT

END:VCALENDAR
