BEGIN:VCALENDAR
VERSION:2.0
PRODID:-//ChamberMaster//Event Calendar 2.0//EN
METHOD:PUBLISH
X-PUBLISHED-TTL:P3D
REFRESH-INTERVAL:P3D
CALSCALE:GREGORIAN
BEGIN:VEVENT
DTSTART:20170831T123000Z
DTEND:20170831T143000Z
X-MICROSOFT-CDO-ALLDAYEVENT:FALSE
SUMMARY:PALM Labor Day Salute Breakfast
DESCRIPTION:Kick off the Labor Day weekend with the PALM Labor Day Salute Breakfast.\n\nA tradition for over 30 years.\n\n\n\n"Training Workers for a Better Tomorrow"...that's the message Goodwill president and CEO\, Don Johnson will be delivering as this year's key note speaker.\n\n\n\nJoin us Thursday\, August 31\, 2017\n\n7:30am - 9:30am \n\nPar-A-Dice Hotel & Casino in East Peoria.\n\n\n\nThank you to our breakfast sponsor....Par-A-Dice Hotel & Casino\n\n\n\nAnyone and everyone is invited to attend.\n\n\n\nRegistration/Sponsorship form available here.\n\nOr register and pay with credit card online at EVENTBRITE
X-ALT-DESC;FMTTYPE=text/html:<span style="font-family: verdana\;"><span style="font-size: 12px\;">Kick off the Labor Day weekend with the PALM Labor Day Salute Breakfast.<br />\nA tradition for over 30 years.<br />\n<br />\n<span style="font-size: 14px\;">&quot\;Training Workers for a Better Tomorrow&quot\;...<span style="font-size: 12px\;">that&#39\;s the message Goodwill president and CEO\, Don Johnson will be delivering as this year&#39\;s key note speaker</span>.<br />\n<br />\n<span style="font-size: 12px\;">Join us Thursday\, August 31\, 2017<br />\n7:30am - 9:30am </span><br />\n<span style="font-size: 12px\;">Par-A-Dice Hotel &amp\; Casino in East Peoria.</span><br />\n<br />\n<span style="font-size: 12px\;">Thank you to our&nbsp\;breakfast sponsor....Par-A-Dice Hotel &amp\; Casino</span><br />\n<br />\n<span style="font-size: 12px\;">Anyone and everyone is invited to attend.</span><br />\n<br />\n<span style="font-size: 12px\;">Registration/Sponsorship form available <strong><a href="http://www.better-built.us/news2/index.cfm?pageID=51&amp\;newsID=4">here</a></strong>.</span><br />\nOr register and pay with credit card online at <a href="http://www.eventbrite.com/e/palm-labor-day-salute-breakfast-tickets-36497095796">EVENTBRITE</a></span></span></span><br />\n<br />\n<br />\n<br />\n<br />\n&nbsp\;
LOCATION:Par-A-Dice Hotel & Casino 21 Blackjack Lane East Peoria\, IL 61611
UID:e.526.4381
SEQUENCE:3
DTSTAMP:20260422T043011Z
URL:https://business.epcc.org/events/details/palm-labor-day-salute-breakfast-4381
END:VEVENT

END:VCALENDAR
