BEGIN:VCALENDAR
VERSION:2.0
PRODID:-//ChamberMaster//Event Calendar 2.0//EN
METHOD:PUBLISH
X-PUBLISHED-TTL:P3D
REFRESH-INTERVAL:P3D
CALSCALE:GREGORIAN
BEGIN:VEVENT
DTSTART:20151105T173000Z
DTEND:20151105T190000Z
X-MICROSOFT-CDO-ALLDAYEVENT:FALSE
SUMMARY:PALM Speaker Series -- Workplace Communication Solutions 2015
DESCRIPTION:Effective communication lies at the core of the effective workplace.  Employees need clear direction and consistent expectations to do their best work.  Managers can only respond to employee questions\, concerns\, or ideas for improvements if they are aware of them.  Without effective communication\, no one in the workplace can perform at the highest level.\n\n\n\nToday's workplace poses unique communication challenges.  Changing workforce demographics and widening skill gaps have made the competition for talent the strongest in years.  Employers need to actively engage their workforce.\n\n \n\nErik Christian is a human resource professional with over a decade of experience in a variety of sectors\, as well as\, principal consultant at HR Fit\, LLC.  Come hear Mr. Christian discuss effective workplace communicatoin using practical examples and scenarios.\n\n \n\nRegister before October 16\, 2015 to receive Ealry Bird Discount \n\n$25.00/person or $200/table of 8.\n\n\n\nRegular Registration is $30.00/person or $240/table of 8.\n\nDeadline to register is October 30\, 2015\n\n\n\nUnable to make it?  Be a SPONSOR!\n\nAll of our sponsors receive recognition at the event and in the Labor Paper.\n\n\n\nRemit completged Registration/Sponsor form to:\n\nPALM\n\n7820 N. University\, Suite 103\n\nPeoria\, IL 61614\n\nFax: 309-691-5060\n\nEmail: info@palmtricon.org\n\n\n\nForms available on PALM site and Better-Built site\n\n\n\nOnline registration with credit card payment available at Eventbrite.\n\n\n\n**PLEASE ADVISE US IF VEGETARIAN MEAL IS REQUIRED**
X-ALT-DESC;FMTTYPE=text/html:<div style="text-align: justify\;"><span style="font-size: 14px\;"><span style="font-family: tahoma\;">Effective communication lies at the core of the effective workplace.&nbsp\; Employees need clear direction and consistent expectations to do their best work.&nbsp\; Managers can only respond to employee questions\, concerns\, or ideas for improvements if they are aware of them.&nbsp\; Without effective communication\, no one in the workplace can perform at the highest level.<br />\n<br />\nToday&#39\;s workplace poses unique communication challenges.&nbsp\; Changing workforce demographics and widening skill gaps have made the competition for talent the strongest in years.&nbsp\; Employers need to actively engage their workforce.</span></span><br />\n&nbsp\;</div>\n\n<div style="text-align: justify\;"><span style="font-size: 14px\;"><span style="font-family: tahoma\;">Erik Christian is a human resource professional with over a decade of experience in a variety of sectors\, as well as\, principal consultant at HR Fit\, LLC.&nbsp\; Come hear Mr. Christian discuss effective workplace communicatoin using practical examples and scenarios</span></span>.<br />\n&nbsp\;</div>\n\n<div style="text-align: center\;"><span style="font-family: tahoma\;"><span style="font-size: 14px\;">Register <strong>before October 16\, 2015 </strong>to receive <strong>Ealry Bird Discount&nbsp\;</strong></span></span></div>\n\n<div style="text-align: center\;"><span style="font-family: tahoma\;"><span style="font-size: 14px\;"><strong>$25.00/person or $200/table of 8.</strong><br />\n<br />\n<strong>Regular Registration </strong>is <strong>$30.00/person or $240/table of 8</strong>.<br />\n<u><em>Deadline</em></u> to register is October 30\, 2015<br />\n<br />\nUnable to make it?&nbsp\; <strong>Be a SPONSOR</strong>!<br />\nAll of our sponsors receive recognition at the event and in the <em>Labor Paper.</em><br />\n<br />\nRemit completged Registration/Sponsor form to:<br />\nPALM<br />\n7820 N. University\, Suite 103<br />\nPeoria\, IL 61614<br />\nFax: 309-691-5060<br />\nEmail: info@palmtricon.org<br />\n<br />\n<strong>Forms available on <span style="font-size: 16px\;"><span style="font-family: verdana\;"><a href="http://www.palmpeoria.org/!/activities"><em>PALM site</em></a>&nbsp\;</span></span>and <span style="font-family: verdana\;"><span style="font-size: 16px\;"><a href="http://www.better-built.us/news2/index.cfm?pageID=51"><em>Better-Built site</em></a></span></span></strong><br />\n<br />\nOnline registration with credit card payment available at <span style="font-family: verdana\;"><em><strong><span style="font-size: 16px\;"><a href="http://www.eventbrite.com/e/palm-speaker-series-workplace-communication-solutions-2015-tickets-18894009491?utm_term=attend&amp\;invite=ODUyODE1Ni9tYXJ5c0BwYWxtdHJpY29uLm9yZy8w&amp\;utm_campaign=inviteformalv2&amp\;utm_source=eb_email&amp\;utm_medium=email&amp\;ref=enivtefor001">Eventbrite</a></span></strong></em></span>.<br />\n<br />\n<strong>**</strong><span style="font-size: 16px\;"><strong>PLEASE ADVISE US IF VEGETARIAN MEAL IS REQUIRED**</strong></span></span></span><br />\n&nbsp\;</div>\n
LOCATION:Lariat Steakhouse 2232 W. Glen Ave.\, Peoria\, IL 61614
UID:e.526.2818
SEQUENCE:3
DTSTAMP:20260424T204711Z
URL:https://business.epcc.org/events/details/palm-speaker-series-workplace-communication-solutions-2015-11-05-2015-2818
END:VEVENT

END:VCALENDAR
