BEGIN:VCALENDAR
VERSION:2.0
PRODID:-//ChamberMaster//Event Calendar 2.0//EN
METHOD:PUBLISH
X-PUBLISHED-TTL:P3D
REFRESH-INTERVAL:P3D
CALSCALE:GREGORIAN
BEGIN:VEVENT
DTSTART:20180920T140000Z
DTEND:20180920T210000Z
X-MICROSOFT-CDO-ALLDAYEVENT:FALSE
SUMMARY:Pathways to Success Leadership Conference - Show Up\, Be Bold
DESCRIPTION:2018 Pathways to Success Conference to Feature International Speaker\, Kim Hodous\n\n     \n\nThe 2018 Pathways to Success Conference will empower women to boldly lead and succeed in all aspects of their lives!   Sponsored by Women in Leadership of Central Illinois (WIL) and the National Association of Women Business Owners (NAWBO)\, the conference will begin with a networking and training session to help women start the conversations that will advance their career or business.  The Keynote Address will be presented by Kim Hodous\, author of the award winning book Show Up\, Be Bold\, Play Big: 33 Strategies for Outrageous Success and Lasting Happiness\, which was a 2013 Finalist for the Indie Next Generation Book Award of Excellence.  Ms. Hodous' innovative ideas on communication and time management have been shared in a variety of publications and have been cited on numerous national networks including ABC\, CBS\, NBC and Fox.  \n\n\n\nMs. Hodous' presentation will be followed by a variety of breakout sessions focused on stimulating ideas\, addressing challenges\, and finding solutions:  \n\n	Show Up and Move Up - Drive Your Own Career Progression - Presented by Meghan Lundeen \n	 Well Behaved Women Rarely Make History - Presented by Becky Rossman\n	Show Up\, Be Bold\, Be Authentic - Presented by Dina Emser\n\nThe event will also feature exhibitors\, a silent auction\, and much more!
X-ALT-DESC;FMTTYPE=text/html:<strong><span style="color:#943634"><span style="font-size:14.0pt">2018 Pathways to Success Conference to Feature International Speaker\, Kim Hodous</span></span></strong><br />\n<strong><span style="color:#006666"><span style="font-size:12.0pt">&nbsp\; &nbsp\; &nbsp\;</span></span></strong><br />\n<strong><em><span style="font-size:11.0pt">The 2018 Pathways to Success Conference will</span></em></strong><em><span style="font-size:11.0pt"> <strong>empower women to boldly lead and succeed in all aspects of </strong></span></em><strong><em><span style="font-size:11.0pt">their lives!</span></em></strong>&nbsp\; <span style="font-size:11.0pt">&nbsp\;Sponsored by Women in Leadership of Central Illinois (WIL) and the National Association of </span><span style="font-size:11.0pt">Women Business Owners (NAWBO)\, the conference will begin with a networking and training session to help women start the conversations that will advance their career or business.&nbsp\; The Keynote Address will be </span><span style="font-size:11.0pt">presented by Kim Hodous\, author of the award winning book <em>Show Up\, Be Bold\, Play Big: 33 Strategies for Outrageous Success and Lasting Happiness</em>\, which was a 2013 Finalist for the Indie Next Generation Book Award </span><span style="font-size:11.0pt">of Excellence.&nbsp\; Ms. Hodous&rsquo\; innovative ideas on communication and time management have been shared in a variety of publications and have been cited on numerous national networks including ABC\, CBS\, NBC and Fox.&nbsp\; </span><br />\n<br />\n<span style="font-size:11.0pt">Ms. Hodous&rsquo\; presentation will be followed by a variety of breakout sessions focused on stimulating ideas\, addressing challenges\, and finding solutions:&nbsp\; </span>\n<ul>\n	<li><strong><span style="font-size:11.0pt">Show Up and Move Up - Drive Your Own Career Progression</span></strong><span style="font-size:11.0pt"> - Presented by Meghan Lundeen </span></li>\n	<li><span style="font-size:11.0pt">&nbsp\;<strong>Well Behaved Women Rarely Make History</strong> - Presented by Becky Rossman</span></li>\n	<li><strong><span style="font-size:11.0pt">Show Up\, Be Bold\, Be Authentic</span></strong><span style="font-size:11.0pt"> - Presented by Dina Emser</span></li>\n</ul>\n<span style="font-size:11.0pt">The event will also feature exhibitors\, a silent auction\, and much more!&nbsp\;&nbsp\;</span>
LOCATION:Par-A-Dice Hotel Casino\, East Peoria
UID:e.526.5521
SEQUENCE:3
DTSTAMP:20260421T052852Z
URL:https://business.epcc.org/events/details/pathways-to-success-leadership-conference-show-up-be-bold-5521
END:VEVENT

END:VCALENDAR
