BEGIN:VCALENDAR
VERSION:2.0
PRODID:-//ChamberMaster//Event Calendar 2.0//EN
METHOD:PUBLISH
X-PUBLISHED-TTL:P3D
REFRESH-INTERVAL:P3D
CALSCALE:GREGORIAN
BEGIN:VEVENT
DTSTART:20180920T223000Z
DTEND:20180921T010000Z
X-MICROSOFT-CDO-ALLDAYEVENT:FALSE
SUMMARY:PAWAC Hosts: The Future of Korea
DESCRIPTION:US relations with both Koreas are in a state of flux. The high stakes\, as well as the high degree of uncertainty\, are making for an unprecedented diplomatic situation.  Defense Secretary James Mattis calls the relationship between the US and the ROK the "linchpin of peace" in the entire Asian Pacific region. Why is the US renegotiating the terms of its strategic relationship with a such critical ally\, and what does this mean for trade\, international business\, and economic growth at home?\n\n  \n\n"The Future of Korea" features a panel of experts from the Embassy of the Republic of Korea\, the US Department of State on North Korea\, and the Korean Economic Institute.  They will address the economic\, political\, and security relationship between Korea and the United States.  Each panelist will share their perspective on recent developments in these sectors.  The event will be held on Thursday\, September 20\, in the ballroom of the Student Center at Bradley University.  An optional dinner will be served at\n\n5:30 pm\, and the discussion will begin at 7 pm.  It is open to the public.  Tickets for the dinner and program may be purchased at www.pawac.org.
X-ALT-DESC;FMTTYPE=text/html:US relations with both Koreas are in a state of flux. The high stakes\, as well as the high degree of uncertainty\, are making for an unprecedented diplomatic situation.&nbsp\; Defense Secretary James Mattis calls the relationship between the US and the ROK the &ldquo\;linchpin of peace&rdquo\; in the entire Asian Pacific region. Why is the US renegotiating the terms of its strategic relationship with a such critical ally\, and what does this mean for trade\, international business\, and economic growth at home?<br />\n&nbsp\;&nbsp\;<br />\n&ldquo\;The Future of Korea&rdquo\; features a panel of experts from the Embassy of the Republic of Korea\, the US Department of State on North Korea\, and the Korean Economic Institute.&nbsp\; They will address the economic\, political\, and security relationship between Korea and the United States.&nbsp\; Each panelist will share their perspective on recent developments in these sectors.&nbsp\; The event will be held on Thursday\, September 20\, in the ballroom of the Student Center at Bradley University.&nbsp\; An optional dinner will be served at<br />\n5:30 pm\, and the discussion will begin at 7 pm.&nbsp\; It is open to the public.&nbsp\; Tickets for the dinner and program may be purchased at <a href="http://www.pawac.org">www.pawac.org</a>.
LOCATION:Michel Student Center Bradley University
UID:e.526.5623
SEQUENCE:3
DTSTAMP:20260421T053000Z
URL:https://business.epcc.org/events/details/pawac-hosts-the-future-of-korea-5623
END:VEVENT

END:VCALENDAR
