BEGIN:VCALENDAR
VERSION:2.0
PRODID:-//ChamberMaster//Event Calendar 2.0//EN
METHOD:PUBLISH
X-PUBLISHED-TTL:P3D
REFRESH-INTERVAL:P3D
CALSCALE:GREGORIAN
BEGIN:VEVENT
DTSTART:20180615T210000Z
DTEND:20180616T000000Z
X-MICROSOFT-CDO-ALLDAYEVENT:FALSE
SUMMARY:PCM+Design Architects Open House
DESCRIPTION:Open House for PCM+Design Architects new space. Hors d'oeuvres and drinks available
X-ALT-DESC;FMTTYPE=text/html:Open House for PCM+Design Architects new space. Hors d&#39\;oeuvres and drinks available
LOCATION:905 W. Main Street\, Suite 300 Peoria\, IL 61606 Please park on Main Street or Garfield. Enter from public alley around back.
UID:e.526.5518
SEQUENCE:3
DTSTAMP:20260421T140750Z
URL:https://business.epcc.org/events/details/pcm-design-architects-open-house-5518
END:VEVENT

END:VCALENDAR
