BEGIN:VCALENDAR
VERSION:2.0
PRODID:-//ChamberMaster//Event Calendar 2.0//EN
METHOD:PUBLISH
X-PUBLISHED-TTL:P3D
REFRESH-INTERVAL:P3D
CALSCALE:GREGORIAN
BEGIN:VEVENT
DTSTART:20220912T160000Z
DTEND:20220913T020000Z
X-MICROSOFT-CDO-ALLDAYEVENT:FALSE
SUMMARY:Pearl Technology Showcase
DESCRIPTION:Join Pearl Technology at the Peoria Riverfront Museum on Monday September 12th for a one of a kind audiovisual innovation experience. Over 30 companies will have booths showcasing their latest advancements for the workplace\, schools\, and houses of worship. Panasonic\, Sony\, JBL\, QSC\, Shure\, Marshall Furniture and many others will be on hand to help advance your communication and collaboration. Education classes on how to design your space and securing your AV network will be taught throughout the day. The showcase goes from 11am-5pm. Please visit www.pearltechnology.com/TechnologyShowcase2022 to register for this free event.
X-ALT-DESC;FMTTYPE=text/html:Join Pearl Technology at the Peoria Riverfront Museum on Monday September 12<span style="vertical-align:text-top\;">th</span>&nbsp\;for a one of a kind audiovisual innovation experience. Over 30 companies will have booths showcasing their latest advancements for the workplace\, schools\, and houses of worship. Panasonic\, Sony\, JBL\, QSC\, Shure\, Marshall Furniture and many others will be on hand to help advance your communication and collaboration. Education classes on how to design your space and securing your AV network will be taught throughout the day. The showcase goes from 11am-5pm. Please visit&nbsp\;<a href="http://www.pearltechnology.com/TechnologyShowcase2022" rel="noopener noreferrer" style="color:rgb(5\, 99\, 193)\;outline:none\;" target="_blank" title="This external link will open in a new window">www.pearltechnology.com/TechnologyShowcase2022</a>&nbsp\;to register for this free event.<br />\n&nbsp\;&nbsp\;
LOCATION:Peoria Riverfront Museum 222 SW Washington St Peoria\, IL 61602
UID:e.526.7032
SEQUENCE:3
DTSTAMP:20260422T114851Z
URL:https://business.epcc.org/events/details/pearl-technology-showcase-7032
END:VEVENT

END:VCALENDAR
