BEGIN:VCALENDAR
VERSION:2.0
PRODID:-//ChamberMaster//Event Calendar 2.0//EN
METHOD:PUBLISH
X-PUBLISHED-TTL:P3D
REFRESH-INTERVAL:P3D
CALSCALE:GREGORIAN
BEGIN:VEVENT
DTSTART:20160924T230000Z
DTEND:20160925T030000Z
X-MICROSOFT-CDO-ALLDAYEVENT:FALSE
SUMMARY:Pediatric Resource Center September 24th Event Helps with Growing Needs
DESCRIPTION:The annual Harvesting Hope fundraising gala helps PRC provide ongoing child abuse prevention education and ensures the clinics are staffed so that children can receive the services that are crucial to their well-being and safety. \n\nOver the past year alone\, the Pediatric Resource Center provided medical and social services to more than 750 suspected child abuse and neglect victims throughout central Illinois
X-ALT-DESC;FMTTYPE=text/html:<div class="page" title="Page 1">\n<div class="layoutArea">\n<div class="column">\n<p><span style="font-size: 11.000000pt\; font-family: 'ArialMT'">The annual Harvesting Hope fundraising gala helps PRC provide ongoing child abuse prevention education and ensures the clinics are staffed so that children can receive the services that are crucial to their well-being and safety. </span></p>\n\n<p><span style="font-size: 11.000000pt\; font-family: 'ArialMT'">Over the past year alone\, the Pediatric Resource Center provided medical and social services to more than 750 suspected child abuse and neglect victims throughout central Illinois&nbsp\;</span></p>\n</div>\n</div>\n</div>\n
LOCATION:Jump Trading Simulation and Education Center 1306 N. Berkeley Ave. Peoria IL
UID:e.526.3250
SEQUENCE:3
DTSTAMP:20260422T212403Z
URL:https://business.epcc.org/events/details/pediatric-resource-center-september-24th-event-helps-with-growing-needs-3250
END:VEVENT

END:VCALENDAR
