BEGIN:VCALENDAR
VERSION:2.0
PRODID:-//ChamberMaster//Event Calendar 2.0//EN
METHOD:PUBLISH
X-PUBLISHED-TTL:P3D
REFRESH-INTERVAL:P3D
CALSCALE:GREGORIAN
BEGIN:VEVENT
DTSTART:20180908T140000Z
DTEND:20180908T170000Z
X-MICROSOFT-CDO-ALLDAYEVENT:FALSE
SUMMARY:Pekin Marigold Festival Parade - Walk with Mike Unes
DESCRIPTION:Walk with Mike Unes' Team during the Pekin Marigold Festival Parade!\n\nSign up here.
X-ALT-DESC;FMTTYPE=text/html:Walk with Mike Unes&#39\; Team during the Pekin Marigold Festival Parade!<br />\nSign up <a href="https://docs.google.com/forms/d/e/1FAIpQLSeLvwpD04yJCiGuUyetHIPVGTa0uavg4oxhmAqun_jOL1DKiw/viewform">here</a>.
LOCATION:Line up on Broadway St. Location TBD
UID:e.526.5608
SEQUENCE:3
DTSTAMP:20260421T053014Z
URL:https://business.epcc.org/events/details/pekin-marigold-festival-parade-walk-with-mike-unes-5608
END:VEVENT

END:VCALENDAR
