BEGIN:VCALENDAR
VERSION:2.0
PRODID:-//ChamberMaster//Event Calendar 2.0//EN
METHOD:PUBLISH
X-PUBLISHED-TTL:P3D
REFRESH-INTERVAL:P3D
CALSCALE:GREGORIAN
BEGIN:VEVENT
DTSTART:20190512T160000Z
DTEND:20190512T190000Z
X-MICROSOFT-CDO-ALLDAYEVENT:FALSE
SUMMARY:Pere Marquette Mother's Day Brunch
DESCRIPTION:Our exclusive brunch buffet includes chef's stations\, lunch specials\, \n\n						breakfast classics and a dessert bar. \n\n						 \n\n						We'll offer a children's activity room & special gift for Mom.\n					\n				\n			\n			\n			\n			\n				\n					\n						Prices:\n\n						Adults $39.95\n\n						Seniors $31.95\n\n						Children 5-12 $15.95\n\n						Children under 4 eat free\n\n						*Prices are exclusive of tax and gratuity \n					\n				\n			\n			\n		\n	\n\n\nMenu: https://files.constantcontact.com/821fbfd7701/0ed6aba2-4773-4452-ac48-1ad6ec2927d9.pdf
X-ALT-DESC;FMTTYPE=text/html:<table align="center" border="0" cellpadding="0" cellspacing="0" style="width:100.0%\;border-collapse:collapse\;" width="100%">\n	<tbody>\n		<tr>\n			<td style="width:50.0%\;padding:0in 0in 0in 0in\;vertical-align:top\;">\n			<table border="0" cellpadding="0" cellspacing="0" style="width:100.0%\;border-collapse:collapse\;" width="100%">\n				<tbody>\n					<tr>\n						<td style="padding:7.5pt 7.5pt 7.5pt 15.0pt\;vertical-align:top\;"><span style="color:#403F42\;"><span style="font-family:arial\,sans-serif\;"><span style="font-size:10.5pt\;">Our exclusive brunch buffet includes chef&#39\;s stations\, lunch specials\, </span></span></span><br />\n						<span style="color:#403F42\;"><span style="font-family:arial\,sans-serif\;"><span style="font-size:10.5pt\;">breakfast classics and a dessert bar. </span></span></span><br />\n						&nbsp\;<br />\n						<span style="color:#403F42\;"><span style="font-family:arial\,sans-serif\;"><span style="font-size:10.5pt\;">We&#39\;ll offer a children&#39\;s activity room &amp\; special gift for Mom.</span></span></span></td>\n					</tr>\n				</tbody>\n			</table>\n			</td>\n			<td style="width:50.0%\;padding:0in 0in 0in 0in\;word-wrap:break-word\;vertical-align:top\;">\n			<table border="0" cellpadding="0" cellspacing="0" style="width:100.0%\;border-collapse:collapse\;" width="100%">\n				<tbody>\n					<tr>\n						<td style="padding:7.5pt 15.0pt 7.5pt 7.5pt\;vertical-align:top\;"><span style="color:#403F42\;"><span style="font-family:arial\,sans-serif\;"><span style="font-size:10.5pt\;">Prices:</span></span></span><br />\n						<span style="color:#403F42\;"><span style="font-family:arial\,sans-serif\;"><span style="font-size:10.5pt\;">Adults $39.95</span></span></span><br />\n						<span style="color:#403F42\;"><span style="font-family:arial\,sans-serif\;"><span style="font-size:10.5pt\;">Seniors $31.95</span></span></span><br />\n						<span style="color:#403F42\;"><span style="font-family:arial\,sans-serif\;"><span style="font-size:10.5pt\;">Children 5-12 $15.95</span></span></span><br />\n						<span style="color:#403F42\;"><span style="font-family:arial\,sans-serif\;"><span style="font-size:10.5pt\;">Children under 4 eat free</span></span></span><br />\n						<span style="color:#403F42\;"><span style="font-family:arial\,sans-serif\;"><span style="font-size:10.5pt\;">*Prices are exclusive of tax and gratuity </span></span></span></td>\n					</tr>\n				</tbody>\n			</table>\n			</td>\n		</tr>\n	</tbody>\n</table>\n\n<div style="clear:both\;">Menu:&nbsp\;<a href="https://files.constantcontact.com/821fbfd7701/0ed6aba2-4773-4452-ac48-1ad6ec2927d9.pdf">https://files.constantcontact.com/821fbfd7701/0ed6aba2-4773-4452-ac48-1ad6ec2927d9.pdf</a></div>\n
LOCATION:
UID:e.526.6032
SEQUENCE:3
DTSTAMP:20260420T170213Z
URL:https://business.epcc.org/events/details/pere-marquette-mother-s-day-brunch-6032
END:VEVENT

END:VCALENDAR
