BEGIN:VCALENDAR
VERSION:2.0
PRODID:-//ChamberMaster//Event Calendar 2.0//EN
METHOD:PUBLISH
X-PUBLISHED-TTL:P3D
REFRESH-INTERVAL:P3D
CALSCALE:GREGORIAN
BEGIN:VEVENT
DTSTART:20190404T213000Z
DTEND:20190405T003000Z
X-MICROSOFT-CDO-ALLDAYEVENT:FALSE
SUMMARY:Pere Marquette Open House
DESCRIPTION:The Comeback of a Classic!\n\n\n\nNew Ownership\, new management\, and an elevated experience like never before. Rediscover the iconic Peoria Marriott Pere Marquette Hotel and Courtyard by Peoria Downtown\, and relive its famed stature with a contemporary new attitude.\n\n\n\n Tour the hotel including guest rooms\, suites\, restaurants and venue space for your next meeting or event\n\n Enjoy complimentary hors d'oeuvres and specialty cocktails\n\n Meet our friendly staff\n\n All attendees will automatically be submiteed into our raffle with a chance to win exciting prizes!\n\n\n\nPlease RSVP by clicking here\n\nhttp://bit.ly/PeoriaOpenHouse [bit.ly]
X-ALT-DESC;FMTTYPE=text/html:The Comeback of a Classic!<br />\n<br />\nNew Ownership\, new management\, and an elevated experience like never before. Rediscover the iconic Peoria Marriott Pere Marquette Hotel and Courtyard by Peoria Downtown\, and relive its famed stature with a contemporary new attitude.<br />\n<br />\n&bull\;Tour the hotel including guest rooms\, suites\, restaurants and venue space for your next meeting or event<br />\n&bull\;Enjoy complimentary hors d&#39\;oeuvres and specialty cocktails<br />\n&bull\;Meet our friendly staff<br />\n&bull\;All attendees will automatically be submiteed into our raffle with a chance to win exciting prizes!<br />\n<br />\n<strong><span style="background-image:initial\;background-position:initial\;background-size:initial\;background-repeat:initial\;background-attachment:initial\;background-origin:initial\;background-clip:initial\;"><span style="color:#a30000\;"><span style="font-family:helvetica\,sans-serif\;"><span style="font-size:18pt\;">Please RSVP by clicking here</span></span></span></span></strong><br />\n<span style="color:white\;"><span style="font-family:helvetica\,sans-serif\;"><span style="font-size:10.5pt\;"><a href="http://r20.rs6.net/tn.jsp?f=001Ugi2P31TeBaw2Rz_WBMCkhiG4qdrrXGcCq8umAS56tvU-t8o8S33Vz030jv_K7Er5gmbSnsnHu-7ScLeQkd2SsRdWsZ0CAxNnXa_HRY9hoJxZkoE-LiCNKUQt0TWzW22gW7fcZsfGVqyA4D7z4iEEaTfmA89ubAef-Sq5FapHy2h2SOacwHPJlqqTdeCHu43OYF2lFv1-VBhS2UKgz4LhGM4BZwOrOV3IYyxLVWdEv66UukwZwA9SQvpmL4nDWEAXRRx9p2fckHbSG3DDoZwW1yPcNxzSat_KcZXsj2eEhDEhqIJnWGYjoDFn9z1ibPAeAiXHvzaN-LXMJZ0ARDkFNc79fXMP7_AWyytGBnOXpVUczHrDuTme3rMv5raiUa3WDR8wihXnnhCUsi5J6DYfuQRVjZTV0klADEK40-8M5SH1ktE7PFOC3zDVc4y1KvjddUcpywaoW041ULk7SRejA21-34rLB3CQ0Hqkwdv45s=&amp\;c=wFBKS0nslrWUCetaurkbXZGWt9WGiVj3Qej7KmoKYxCVEJkFEGzRpg==&amp\;ch=Z3e9xGWDRFdYo42hMcjpu7m2H0Xc9jefSwcmAXGy8H7kf9kxcCFFwg==" rel="noopener noreferrer" style="color:purple\;outline:none\;" target="_blank" title="This external link will open in a new window"><span style="background-image:initial\;background-position:initial\;background-size:initial\;background-repeat:initial\;background-attachment:initial\;background-origin:initial\;background-clip:initial\;"><span style="color:#0070c0\;"><span style="font-size:16.5pt\;">http://bit.ly/PeoriaOpenHouse [bit.ly]</span></span></span></a></span></span></span><br />\n<br />\n&nbsp\;
LOCATION:Peoria Marriott Pere Marquette 501 Main St. Peoria\, IL 61602
UID:e.526.5985
SEQUENCE:3
DTSTAMP:20260420T200057Z
URL:https://business.epcc.org/events/details/pere-marquette-open-house-5985
END:VEVENT

END:VCALENDAR
