BEGIN:VCALENDAR
VERSION:2.0
PRODID:-//ChamberMaster//Event Calendar 2.0//EN
METHOD:PUBLISH
X-PUBLISHED-TTL:P3D
REFRESH-INTERVAL:P3D
CALSCALE:GREGORIAN
BEGIN:VEVENT
DTSTART:20190717T150000Z
DTEND:20190717T170000Z
X-MICROSOFT-CDO-ALLDAYEVENT:FALSE
SUMMARY:Personal Knowledge Management with Microsoft OneNote
DESCRIPTION:SCORE Peoria is offering the following FREE Workshop . . . \n\nPersonal Knowledge Management with Microsoft OneNote\n\n\nA recent study suggested that the average business owner wastes as much as 150 hours a year looking for "stuff". Another study suggests that at least 10% of all documents are lost or misfiled. This workshop will help you avoid the wasted time and lost productivity that comes from a cluttered desk\, messy files\, or no system of personal organization. The program that will be featured is Microsoft OneNote - a free program that you can use on your PC\, Mac\, iPhone\, iPad\, Android phones and Android tablets.  Learn how to capture any information and access it from anywhere.\n\nThis workshop is FREE\, but registration is required.\n\nCall Peoria SCORE at 309-676-0755 or register online by clicking here.
X-ALT-DESC;FMTTYPE=text/html:<div style="text-align:center"><span style="font-size:14px"><span style="font-family:arial\,helvetica\,sans-serif">SCORE Peoria is offering the following <u><em><strong>FREE</strong></em></u> Workshop . . . </span></span></div>\n\n<h1 style="text-align:center"><u><strong><span style="font-size:18px"><span style="font-family:arial\,helvetica\,sans-serif">Personal Knowledge Management with Microsoft OneNote</span></span></strong></u></h1>\n\n<div>\n<p><span style="font-size:14px"><span style="font-family:arial\,helvetica\,sans-serif">A recent study suggested that the average business owner wastes as much as 150 hours a year looking for &ldquo\;stuff&rdquo\;. Another study suggests that at least 10% of all documents are lost or misfiled. This workshop will help you avoid the wasted time and lost productivity that comes from a cluttered desk\, messy files\, or no system of personal organization. The program that will be featured is Microsoft OneNote - a free program that you can use on your PC\, Mac\, iPhone\, iPad\, Android phones and Android tablets. &nbsp\;Learn how to capture any information and access it from anywhere.</span></span></p>\n\n<p style="text-align:center"><strong><span style="font-size:14px"><span style="font-family:arial\,helvetica\,sans-serif">This workshop is FREE\, but registration is required.</span></span></strong></p>\n\n<p style="text-align:center"><strong><span style="font-size:14px"><span style="font-family:arial\,helvetica\,sans-serif">Call Peoria SCORE at 309-676-0755 or register online by <a href="http://events.constantcontact.com/register/event?llr=9af7iaeab&amp\;oeidk=a07egeme6f3231465b4" target="_blank">clicking here</a>.</span></span></strong></p>\n<br />\n&nbsp\;</div>\n
LOCATION:Peoria Area Chamber of Commerce Conference Room 403 N. E. Jefferson St. Peoria\, IL 61603
UID:e.526.6104
SEQUENCE:3
DTSTAMP:20260420T140155Z
URL:https://business.epcc.org/events/details/personal-knowledge-management-with-microsoft-onenote-6104
END:VEVENT

END:VCALENDAR
