BEGIN:VCALENDAR
VERSION:2.0
PRODID:-//ChamberMaster//Event Calendar 2.0//EN
METHOD:PUBLISH
X-PUBLISHED-TTL:P3D
REFRESH-INTERVAL:P3D
CALSCALE:GREGORIAN
BEGIN:VEVENT
DTSTART:20190509T160000Z
DTEND:20190509T163000Z
X-MICROSOFT-CDO-ALLDAYEVENT:FALSE
SUMMARY:Pho Noodle House/Dragon Wok Grand Opening & Ribbon Cutting
DESCRIPTION:Please join us in welcoming Pho Noodle House/Dragon Wok at their Grand Opening and New Chamber Member Ribbon Cutting!
X-ALT-DESC;FMTTYPE=text/html:Please join us in welcoming Pho Noodle House/Dragon Wok at their Grand Opening and New Chamber Member Ribbon Cutting!
LOCATION:Pho Noodle House/Dragon Wok 206 W. Camp St. East Peoria\, IL 61611
UID:e.526.6023
SEQUENCE:3
DTSTAMP:20260420T170922Z
URL:https://business.epcc.org/events/details/pho-noodle-house-dragon-wok-grand-opening-ribbon-cutting-6023
END:VEVENT

END:VCALENDAR
