BEGIN:VCALENDAR
VERSION:2.0
PRODID:-//ChamberMaster//Event Calendar 2.0//EN
METHOD:PUBLISH
X-PUBLISHED-TTL:P3D
REFRESH-INTERVAL:P3D
CALSCALE:GREGORIAN
BEGIN:VEVENT
DTSTART:20160412T180000Z
DTEND:20160412T220000Z
X-MICROSOFT-CDO-ALLDAYEVENT:FALSE
SUMMARY:Planning & Delivering an Effective Presentation
DESCRIPTION:Learn how to deliver confident\, convincing presentations using Power Point slides for maximum impact. Part of this session will focus on taking technical information and making it clear and understandable.
X-ALT-DESC;FMTTYPE=text/html:Learn how to deliver confident\, convincing presentations using Power Point slides for maximum impact. Part of this session will focus on taking technical information and making it clear and understandable.
LOCATION:Bradley University
UID:e.526.2960
SEQUENCE:3
DTSTAMP:20260424T135300Z
URL:https://business.epcc.org/events/details/planning-delivering-an-effective-presentation-04-12-2016-2960
END:VEVENT

END:VCALENDAR
