BEGIN:VCALENDAR
VERSION:2.0
PRODID:-//ChamberMaster//Event Calendar 2.0//EN
METHOD:PUBLISH
X-PUBLISHED-TTL:P3D
REFRESH-INTERVAL:P3D
CALSCALE:GREGORIAN
BEGIN:VEVENT
DTSTART:20170720T123000Z
DTEND:20170720T143000Z
X-MICROSOFT-CDO-ALLDAYEVENT:FALSE
SUMMARY:Power Up: A Branded Approach to Strategic Planning
DESCRIPTION:This hands-on workshop builds on the unique branding method introduced in the June workshop "Inspire Raving Fans by Branding the 'Why'" held at the East Peoria Chamber and shows how to use your business "whys" as the foundation for building a strategic plan that's more focused\, impactful\, and effective in guiding business actions and decisions.  Along with learning how to integrate business and branding strategy into a planning powerhouse\, participants will:\n\n	Understand the significance of a branded mission to the planning process and beyond\n	Discuss the role of traditional strategic planning elements\, such as SWOT analysis\n	Use a sample process and plan as a guide to draft their own strategic template
X-ALT-DESC;FMTTYPE=text/html:This hands-on workshop builds on the unique branding method introduced in the June workshop <em>&ldquo\;Inspire Raving Fans by Branding the &lsquo\;Why&rsquo\;&rdquo\;</em>&nbsp\;held at the East Peoria Chamber and shows how to use your business &ldquo\;whys&rdquo\; as the foundation for building a strategic plan that&rsquo\;s more focused\, impactful\, and effective in guiding business actions and decisions.&nbsp\; Along with learning how to integrate business and branding strategy into a planning powerhouse\, participants will:\n<ul>\n	<li>Understand the significance of a branded mission to the planning process and beyond</li>\n	<li>Discuss the role of traditional strategic planning elements\, such as SWOT analysis</li>\n	<li>Use a sample process and plan as a guide to draft their own strategic template</li>\n</ul>\n
LOCATION:Web Services\, Inc. 424 Riverside Drive East Peoria\, IL. 61611
UID:e.526.4325
SEQUENCE:3
DTSTAMP:20260422T071203Z
URL:https://business.epcc.org/events/details/power-up-a-branded-approach-to-strategic-planning-4325
END:VEVENT

END:VCALENDAR
