BEGIN:VCALENDAR
VERSION:2.0
PRODID:-//ChamberMaster//Event Calendar 2.0//EN
METHOD:PUBLISH
X-PUBLISHED-TTL:P3D
REFRESH-INTERVAL:P3D
CALSCALE:GREGORIAN
BEGIN:VEVENT
DTSTART:20230418T230000Z
DTEND:20230419T003000Z
X-MICROSOFT-CDO-ALLDAYEVENT:FALSE
SUMMARY:Preparing for a Financial Emergency (Busey Bank Bridge)
DESCRIPTION:Preparing for a Financial Emergency\n\n- Learn about the tools and resources to develop and implement an emergency savings strategy.\n\n- Develop skills to protect yourself during times of financial emergency and uncertainty!
X-ALT-DESC;FMTTYPE=text/html:Preparing for a Financial Emergency<br />\n- Learn about the tools and resources to develop and implement an emergency savings strategy.<br />\n- Develop skills to protect yourself during times of financial emergency and uncertainty!
LOCATION:VIRTUALLY ONLY - Must register to attend. Email thebridgepeoria@Busey.com or call (309)495-4246to attend.
UID:e.526.7115
SEQUENCE:3
DTSTAMP:20260422T221806Z
URL:https://business.epcc.org/events/details/preparing-for-a-financial-emergency-busey-bank-bridge-7115
END:VEVENT

END:VCALENDAR
