BEGIN:VCALENDAR
VERSION:2.0
PRODID:-//ChamberMaster//Event Calendar 2.0//EN
METHOD:PUBLISH
X-PUBLISHED-TTL:P3D
REFRESH-INTERVAL:P3D
CALSCALE:GREGORIAN
BEGIN:VEVENT
DTSTART:20180427T160000Z
DTEND:20180427T183000Z
X-MICROSOFT-CDO-ALLDAYEVENT:FALSE
SUMMARY:Pro Customer Appreciation Lunch
DESCRIPTION:Customer Appreciation Lunch for all our Business Customers \n\nThank you for your business!  Lunch is on us!\n\nVendors PLUS giveaways and demonstrations. \n\nMeet and build relationships with our PRO staff.
X-ALT-DESC;FMTTYPE=text/html:<div style="text-align: center\;">Customer Appreciation Lunch for all our Business Customers&nbsp\;<br />\nThank you for&nbsp\;your business!&nbsp\;&nbsp\;Lunch is on us!<br />\nVendors PLUS giveaways and demonstrations.&nbsp\;</div>\n\n<div style="text-align: center\;">Meet and build relationships with our PRO staff.</div>\n
LOCATION:Held right out in front of the store near the building material loading area.
UID:e.526.5483
SEQUENCE:3
DTSTAMP:20260421T165919Z
URL:https://business.epcc.org/events/details/pro-customer-appreciation-lunch-5483
END:VEVENT

END:VCALENDAR
