BEGIN:VCALENDAR
VERSION:2.0
PRODID:-//ChamberMaster//Event Calendar 2.0//EN
METHOD:PUBLISH
X-PUBLISHED-TTL:P3D
REFRESH-INTERVAL:P3D
CALSCALE:GREGORIAN
BEGIN:VEVENT
DTSTART:20180721T120000Z
DTEND:20180721T170000Z
X-MICROSOFT-CDO-ALLDAYEVENT:FALSE
SUMMARY:Quail Meadows East Peoria Amateur City Championship
DESCRIPTION:2018 East Peoria Open
X-ALT-DESC;FMTTYPE=text/html:2018 East Peoria Open
LOCATION:Quail Meadows Golf Course
UID:e.526.5549
SEQUENCE:3
DTSTAMP:20260421T084114Z
URL:https://business.epcc.org/events/details/quail-meadows-east-peoria-amateur-city-championship-5549
END:VEVENT

END:VCALENDAR
