BEGIN:VCALENDAR
VERSION:2.0
PRODID:-//ChamberMaster//Event Calendar 2.0//EN
METHOD:PUBLISH
X-PUBLISHED-TTL:P3D
REFRESH-INTERVAL:P3D
CALSCALE:GREGORIAN
BEGIN:VEVENT
DTSTART:20180727T220000Z
DTEND:20180729T040000Z
X-MICROSOFT-CDO-ALLDAYEVENT:FALSE
SUMMARY:Quail Meadows Just for Kids Golf Tournament
DESCRIPTION:Join the Quail Meadows Just for Kids Golf Tournament! Children ages 6-15 can play in this tournament. Registration can be found here.
X-ALT-DESC;FMTTYPE=text/html:Join the Quail Meadows Just for Kids Golf Tournament! Children ages 6-15 can play in this tournament. Registration can be found <a href="https://www.quailmeadowsgolf.com/events/event-registration?eventId=5&amp\;controller=event&amp\;task=individualRegister&amp\;utm_source=newsletter_54&amp\;utm_medium=email&amp\;utm_campaign=just-for-kids-golf-tournament-east-peoria-open">here</a>.<br />\n&nbsp\;
LOCATION:Quail Meadows Golf Course
UID:e.526.5569
SEQUENCE:3
DTSTAMP:20260421T085057Z
URL:https://business.epcc.org/events/details/quail-meadows-just-for-kids-golf-tournament-5569
END:VEVENT

END:VCALENDAR
