BEGIN:VCALENDAR
VERSION:2.0
PRODID:-//ChamberMaster//Event Calendar 2.0//EN
METHOD:PUBLISH
X-PUBLISHED-TTL:P3D
REFRESH-INTERVAL:P3D
CALSCALE:GREGORIAN
BEGIN:VEVENT
DTSTART;VALUE=DATE:20190525
DTEND;VALUE=DATE:20190528
TRANSP:TRANSPARENT
X-MICROSOFT-CDO-ALLDAYEVENT:TRUE
SUMMARY:Quail Meadows Memorial Day Weekend Special
DESCRIPTION:Memorial Day Golf Special\n			We proudly honor the men and women that protect this great nation. Bring in your military or veteran id and pay just $22 for cart & green fee.\n\n			\n\n			Offer is good Memorial Day weekend\, May 25 - May 27.\n\n			\n\n			Other Specials May 25 - May 27\n\n			$30.00 for 18 holes with cart rental after 10AM.\n\n			$4.00 Hot Dog Meal.\n\n			\n\n			Grill Specials (10AM-3PM)\n\n			Hamburger- $5.00\n\n			Cheese Burger- $5.50\n\n			Pork Chop- $5.00\n\n			(make any sandwich a meal for an extra $2.00)\n\n			Keep in mind\, that Memorial Day weekend is one of the busiest weekends we have all year. Make sure you reserve your tee times well in advance.\n\n			Call (309) 694-3139 or book online today.
X-ALT-DESC;FMTTYPE=text/html:<table align="center" border="1" cellpadding="0" cellspacing="0" style="width:100.0%\;background:white\;border:none\;border-bottom:solid #CCCCCC 1.0pt\;" width="100%">\n	<tbody>\n		<tr>\n			<td style="border:none\;padding:15.0pt 30.0pt 15.0pt 30.0pt\;vertical-align:top\;">\n			<h1>Memorial Day Golf Special</h1>\n			<span style="color:#505050\;"><span style="font-family:helvetica\,sans-serif\;">We proudly honor the men and women that protect this great nation. Bring in your <strong><span style="font-family:helvetica\,sans-serif\;">military or veteran id</span></strong> and pay just <strong><span style="font-family:helvetica\,sans-serif\;">$22 for cart &amp\; green fee</span></strong>.<br />\n			<br />\n			Offer is good Memorial Day weekend\, May 25 - May 27.<br />\n			<br />\n			<u>Other Specials May 25 - May 27</u><br />\n			$30.00 for 18 holes with cart rental after 10AM.<br />\n			$4.00 Hot Dog Meal.<br />\n			<br />\n			Grill Specials (10AM-3PM)<br />\n			Hamburger- $5.00<br />\n			Cheese Burger- $5.50<br />\n			Pork Chop- $5.00<br />\n			(make any sandwich a meal for an extra $2.00)</span></span><br />\n			<span style="color:#505050\;"><span style="font-family:helvetica\,sans-serif\;">Keep in mind\, that Memorial Day weekend is one of the busiest weekends we have all year. Make sure you reserve your tee times well in advance.</span></span><br />\n			<span style="color:#505050\;"><span style="font-family:helvetica\,sans-serif\;">Call (309) 694-3139 or book online today.</span></span></td>\n		</tr>\n	</tbody>\n</table>\n\n<div style="clear:both\;">&nbsp\;</div>\n
LOCATION:
UID:e.526.6080
SEQUENCE:3
DTSTAMP:20260420T170012Z
URL:https://business.epcc.org/events/details/quail-meadows-memorial-day-weekend-special-6080
END:VEVENT

END:VCALENDAR
