BEGIN:VCALENDAR
VERSION:2.0
PRODID:-//ChamberMaster//Event Calendar 2.0//EN
METHOD:PUBLISH
X-PUBLISHED-TTL:P3D
REFRESH-INTERVAL:P3D
CALSCALE:GREGORIAN
BEGIN:VEVENT
DTSTART:20160810T130000Z
DTEND:20160810T163000Z
X-MICROSOFT-CDO-ALLDAYEVENT:FALSE
SUMMARY:QuickBooks Training: Desktop
DESCRIPTION:For people who are new to QuickBooks\, this is the place to start. This session will give an overview of how to enter data into the most common features of the program.\n\n \n\nFor people who are new to QuickBooks\, this is the place to start. This session will give an overview of how to enter data into the most common features of the program.\n\n \n\nAgenda\n\nThe two basic functions of QuickBooks: \n\n1. Money coming in - sales receipts and invoicing \n\n2. Money going out - checks\, bills and credit cards\n\nA clear understanding of how to enter: \n\n  Invoices \n\n  Sales receipts \n\n  Received payments \n\n  Bills \n\n  Paying Bills \n\n  Checks \n\n  Some basic functions and preferences \n\n  Time saving techniques
X-ALT-DESC;FMTTYPE=text/html:<span style="font-family: arial\,sans-serif\;"><span style="font-size: 12pt\;">For people who are new to&nbsp\;QuickBooks\, this is the place to start. This session will give an overview of how to enter data into the most common features of the program.</span></span><br />\n&nbsp\;<br />\n<span style="font-family: arial\,sans-serif\;"><span style="font-size: 12pt\;">For people who are new to QuickBooks\, this is the place to start. This session will give an overview of how to enter data into the most common features of the program.</span></span><br />\n&nbsp\;<br />\n<span style="font-family: arial\,sans-serif\;"><span style="font-size: 12pt\;">Agenda</span></span><br />\n<span style="font-family: arial\,sans-serif\;"><span style="font-size: 12pt\;">The two basic functions of QuickBooks: </span></span><br />\n<span style="font-family: arial\,sans-serif\;"><span style="font-size: 12pt\;">1. Money coming in - sales receipts and invoicing </span></span><br />\n<span style="font-family: arial\,sans-serif\;"><span style="font-size: 12pt\;">2. Money going out - checks\, bills and credit cards</span></span><br />\n<span style="font-family: arial\,sans-serif\;"><span style="font-size: 12pt\;">A clear understanding of how to enter: </span></span><br />\n<span style="font-family: arial\,sans-serif\;"><span style="font-size: 12pt\;">&bull\; Invoices </span></span><br />\n<span style="font-family: arial\,sans-serif\;"><span style="font-size: 12pt\;">&bull\; Sales receipts </span></span><br />\n<span style="font-family: arial\,sans-serif\;"><span style="font-size: 12pt\;">&bull\; Received payments </span></span><br />\n<span style="font-family: arial\,sans-serif\;"><span style="font-size: 12pt\;">&bull\; Bills </span></span><br />\n<span style="font-family: arial\,sans-serif\;"><span style="font-size: 12pt\;">&bull\; Paying Bills </span></span><br />\n<span style="font-family: arial\,sans-serif\;"><span style="font-size: 12pt\;">&bull\; Checks </span></span><br />\n<span style="font-family: arial\,sans-serif\;"><span style="font-size: 12pt\;">&bull\; Some basic functions and preferences </span></span><br />\n<span style="font-family: arial\,sans-serif\;"><span style="font-size: 12pt\;">&bull\; Time saving techniques</span></span>
LOCATION:PeoriaNEXT Innovation Center 801 West Main Street\, Peoria IL 61606
UID:e.526.3225
SEQUENCE:3
DTSTAMP:20260424T081413Z
URL:https://business.epcc.org/events/details/quickbooks-training-desktop-08-10-2016-3225
END:VEVENT

END:VCALENDAR
