BEGIN:VCALENDAR
VERSION:2.0
PRODID:-//ChamberMaster//Event Calendar 2.0//EN
METHOD:PUBLISH
X-PUBLISHED-TTL:P3D
REFRESH-INTERVAL:P3D
CALSCALE:GREGORIAN
BEGIN:VEVENT
DTSTART:20160810T180000Z
DTEND:20160810T213000Z
X-MICROSOFT-CDO-ALLDAYEVENT:FALSE
SUMMARY:QuickBooks Training: Online
DESCRIPTION:Online Session (1pm - 4:30pm)\n\nMaximizing the use of QuickBooks online and going through setup and how to setup properly.\n\n \n\nThe two basic functions of QuickBooks: \n\n1. Money coming in - sales receipts and invoicing \n\n2. Money going out - checks\, bills and credit cards\n\nIssues to address:\n\n  Connecting your checking and credit card accounts\n\n  Understanding bank feeds and rules\n\n  Using on a mobile phone\n\n  App universe\n\n  Taking mobile and online payments\n\n  Learn how to save up to 50% off the price when purchased through a ProAdvisor\n\nDesigned for:\n\n  Current users or\n\n  Desktop license holders looking to switch\n\n  Small businesses that don't sit in-front of their computer all day\n\no 90% of all small businesses should use online version - explained why
X-ALT-DESC;FMTTYPE=text/html:<span style="font-family: arial\,sans-serif\;"><span style="font-size: 12pt\;">Online Session (1pm - 4:30pm)</span></span><br />\n<span style="font-family: arial\,sans-serif\;"><span style="font-size: 12pt\;">Maximizing the use of QuickBooks online and going through setup and how to setup properly.</span></span><br />\n&nbsp\;<br />\n<span style="font-family: arial\,sans-serif\;"><span style="font-size: 12pt\;">The two basic functions of QuickBooks: </span></span><br />\n<span style="font-family: arial\,sans-serif\;"><span style="font-size: 12pt\;">1. Money coming in - sales receipts and invoicing </span></span><br />\n<span style="font-family: arial\,sans-serif\;"><span style="font-size: 12pt\;">2. Money going out - checks\, bills and credit cards</span></span><br />\n<span style="font-family: arial\,sans-serif\;"><span style="font-size: 12pt\;">Issues to address:</span></span><br />\n<span style="font-family: arial\,sans-serif\;"><span style="font-size: 12pt\;">&bull\; Connecting your checking and credit card accounts</span></span><br />\n<span style="font-family: arial\,sans-serif\;"><span style="font-size: 12pt\;">&bull\; Understanding bank feeds and rules</span></span><br />\n<span style="font-family: arial\,sans-serif\;"><span style="font-size: 12pt\;">&bull\; Using on a mobile phone</span></span><br />\n<span style="font-family: arial\,sans-serif\;"><span style="font-size: 12pt\;">&bull\; App universe</span></span><br />\n<span style="font-family: arial\,sans-serif\;"><span style="font-size: 12pt\;">&bull\; Taking mobile and online payments</span></span><br />\n<span style="font-family: arial\,sans-serif\;"><span style="font-size: 12pt\;">&bull\; Learn how to save up to 50% off the price when purchased through a ProAdvisor</span></span><br />\n<span style="font-family: arial\,sans-serif\;"><span style="font-size: 12pt\;">Designed for:</span></span><br />\n<span style="font-family: arial\,sans-serif\;"><span style="font-size: 12pt\;">&bull\; Current users or</span></span><br />\n<span style="font-family: arial\,sans-serif\;"><span style="font-size: 12pt\;">&bull\; Desktop license holders looking to switch</span></span><br />\n<span style="font-family: arial\,sans-serif\;"><span style="font-size: 12pt\;">&bull\; Small businesses that don&#39\;t sit in-front of their computer all day</span></span>\n\n<div style="margin-left: 40px\;"><span style="font-family: arial\,sans-serif\;"><span style="font-size: 12pt\;">o 90% of all small businesses should use online version - explained why</span></span></div>\n
LOCATION:PeoriaNEXT Innovation Center 801 West Main Street\, Peoria IL 61606
UID:e.526.3226
SEQUENCE:3
DTSTAMP:20260424T082127Z
URL:https://business.epcc.org/events/details/quickbooks-training-online-08-10-2016-3226
END:VEVENT

END:VCALENDAR
