BEGIN:VCALENDAR
VERSION:2.0
PRODID:-//ChamberMaster//Event Calendar 2.0//EN
METHOD:PUBLISH
X-PUBLISHED-TTL:P3D
REFRESH-INTERVAL:P3D
CALSCALE:GREGORIAN
BEGIN:VEVENT
DTSTART:20190825T000000Z
DTEND:20190825T030000Z
X-MICROSOFT-CDO-ALLDAYEVENT:FALSE
SUMMARY:Rat Pack is Back Live Show! at Five Points Washington
DESCRIPTION:The Rat Pack is Back!\n\nLive @ Five Points
X-ALT-DESC;FMTTYPE=text/html:The Rat Pack is Back!<br />\nLive @ Five Points
LOCATION:Five Points Washington Caterpillar Performing Arts Theater Enjoy the award-winning Las Vegas tribute show that will have you laughing and singing along with Frank Sinatra\, Dean Martin and Sammy Davis Jr. Don't miss this wonderful show!
UID:e.526.6183
SEQUENCE:3
DTSTAMP:20260420T123909Z
URL:https://business.epcc.org/events/details/rat-pack-is-back-live-show-at-five-points-washington-6183
END:VEVENT

END:VCALENDAR
