BEGIN:VCALENDAR
VERSION:2.0
PRODID:-//ChamberMaster//Event Calendar 2.0//EN
METHOD:PUBLISH
X-PUBLISHED-TTL:P3D
REFRESH-INTERVAL:P3D
CALSCALE:GREGORIAN
BEGIN:VEVENT
DTSTART:20160921T163000Z
DTEND:20160921T173000Z
X-MICROSOFT-CDO-ALLDAYEVENT:FALSE
SUMMARY:Re-Dedication of the Four Sided Clock
DESCRIPTION:Rededication of the Four-Faced Clock
X-ALT-DESC;FMTTYPE=text/html:Rededication of the Four-Faced Clock
LOCATION:On the Promenade located at the Levee District (between Ross and Carpet Weavers)
UID:e.526.3259
SEQUENCE:3
DTSTAMP:20260422T200516Z
URL:https://business.epcc.org/events/details/re-dedication-of-the-four-sided-clock-3259
END:VEVENT

END:VCALENDAR
