BEGIN:VCALENDAR
VERSION:2.0
PRODID:-//ChamberMaster//Event Calendar 2.0//EN
METHOD:PUBLISH
X-PUBLISHED-TTL:P3D
REFRESH-INTERVAL:P3D
CALSCALE:GREGORIAN
BEGIN:VEVENT
DTSTART:20160924T150000Z
DTEND:20160924T190000Z
X-MICROSOFT-CDO-ALLDAYEVENT:FALSE
SUMMARY:Recovery Walks! 2016
DESCRIPTION:Each year\, the Illinois Institute for Addiction Recovery hosts Recovery Walks! Recovery Walks! is a day of celebration and fun. This family-friendly event\, includes lunch\, live music\, face painting\, Balloon Artist - The Unique Twist\, as well as\, a leisurely group walk on our paved walking trail while celebrating recovery. There will also be a silent auction with donations from restaurants\, sports teams\, wellness centers and other local businesses. All proceeds from the event go towards the Ameel Rashid Scholarship for Addiction Recovery.
X-ALT-DESC;FMTTYPE=text/html:Each year\, the Illinois Institute for Addiction Recovery hosts Recovery Walks! Recovery Walks! is a day of celebration and fun. This family-friendly event\, includes lunch\, live music\, face painting\, Balloon Artist - The Unique Twist\, as well as\, a leisurely group walk on our paved walking trail while celebrating recovery. There will also be a silent auction with donations from restaurants\, sports teams\, wellness centers and other local businesses. All proceeds from the event go towards the Ameel Rashid Scholarship for Addiction Recovery.
LOCATION:Illinois Institute for Addiction Recovery - UnityPoint Health - Proctor Campus 5409 N Knoxville Ave. Peoria\, IL 61614
UID:e.526.3254
SEQUENCE:3
DTSTAMP:20260422T195721Z
URL:https://business.epcc.org/events/details/recovery-walks-2016-3254
END:VEVENT

END:VCALENDAR
