BEGIN:VCALENDAR
VERSION:2.0
PRODID:-//ChamberMaster//Event Calendar 2.0//EN
METHOD:PUBLISH
X-PUBLISHED-TTL:P3D
REFRESH-INTERVAL:P3D
CALSCALE:GREGORIAN
BEGIN:VEVENT
DTSTART:20180426T140000Z
DTEND:20180426T160000Z
X-MICROSOFT-CDO-ALLDAYEVENT:FALSE
SUMMARY:Regions: Special Needs Trusts adn Estate Planning
DESCRIPTION:Join Regions in their "money Smart Week" for a seminar called "Special Needs Trusts and Estate Planning:  What You Need to Know.  Led by Julie Kaltenrieder and Michelle Wieneke.
X-ALT-DESC;FMTTYPE=text/html:Join Regions in their &quot\;money Smart Week&quot\; for a seminar called &quot\;Special Needs Trusts and Estate Planning:&nbsp\; What You Need to Know.&nbsp\; Led by Julie Kaltenrieder and Michelle Wieneke.<br />\n<br />\n&nbsp\;
LOCATION:Fondulac District Library 400 Richland Street East Peoria\, IL 61611
UID:e.526.5479
SEQUENCE:3
DTSTAMP:20260421T182221Z
URL:https://business.epcc.org/events/details/regions-special-needs-trusts-adn-estate-planning-5479
END:VEVENT

END:VCALENDAR
