BEGIN:VCALENDAR
VERSION:2.0
PRODID:-//ChamberMaster//Event Calendar 2.0//EN
METHOD:PUBLISH
X-PUBLISHED-TTL:P3D
REFRESH-INTERVAL:P3D
CALSCALE:GREGORIAN
BEGIN:VEVENT
DTSTART:20150713T183000Z
DTEND:20150713T210000Z
X-MICROSOFT-CDO-ALLDAYEVENT:FALSE
SUMMARY:Resume Review Session
DESCRIPTION:Bring your current resume for staff to review\, provide helpful tips\, and assist with revisions. If you do not currently have a resume\, bring your employment history\, education information and references. Space is limited to provide adequate assistance for each attendee. Reservations are required and can be made by calling (309) 682-1113 ext. 2128.
X-ALT-DESC;FMTTYPE=text/html:Bring your current resume for staff to review\, provide helpful tips\, and assist with revisions. If you do not currently have a resume\, bring your employment history\, education information and references. Space is limited to provide adequate assistance for each attendee. Reservations are required and can be made by calling (309) 682-1113 ext. 2128.
LOCATION:Goodwill Commons 2319 E. War Memorial Dr. Peoria\, IL 61614
UID:e.526.1704
SEQUENCE:3
DTSTAMP:20260425T032217Z
URL:https://business.epcc.org/events/details/resume-review-session-07-13-2015-1704
END:VEVENT

END:VCALENDAR
