BEGIN:VCALENDAR
VERSION:2.0
PRODID:-//ChamberMaster//Event Calendar 2.0//EN
METHOD:PUBLISH
X-PUBLISHED-TTL:P3D
REFRESH-INTERVAL:P3D
CALSCALE:GREGORIAN
BEGIN:VEVENT
DTSTART:20190622T160000Z
DTEND:20190622T170000Z
X-MICROSOFT-CDO-ALLDAYEVENT:FALSE
SUMMARY:Retirement: Making Your Money Last
DESCRIPTION:You're Invited!\n\n\n\nWhat matters most to you?\n\nWhat type of lifestyle do you want in retirement?\n\nOnce you can picture your retirement\, you'll need a strategy designed to help make it happen.\n\n\n\nJoin us for Retirement: Making Your Money Last. We'll discuss ways to help you work toward fulfilling your retirement expectations. And\, we'll focus on how to provide for your income needs\, including your retirement for the future.\n\n\n\nWe'll also explore how to address key concerns such as inflation\, health care expenses\, market volatility and unexpected events.
X-ALT-DESC;FMTTYPE=text/html:<strong>You&#39\;re Invited!<br />\n<br />\nWhat matters most to you?</strong><br />\n<strong>What type of lifestyle do you want in retirement?</strong><br />\nOnce you can picture your retirement\, you&#39\;ll need a strategy designed to help make it happen.<br />\n<br />\nJoin us for <em>Retirement: Making Your Money Last</em>. We&#39\;ll discuss ways to help you work toward fulfilling your retirement expectations. And\, we&#39\;ll focus on how to provide for your income needs\, including your retirement for the future.<br />\n<br />\nWe&#39\;ll also explore how to address key concerns such as inflation\, health care expenses\, market volatility and unexpected events.
LOCATION:509 Woodland Knolls Rd. Germantown Hills\, IL 61548
UID:e.526.6086
SEQUENCE:3
DTSTAMP:20260420T153138Z
URL:https://business.epcc.org/events/details/retirement-making-your-money-last-6086
END:VEVENT

END:VCALENDAR
