BEGIN:VCALENDAR
VERSION:2.0
PRODID:-//ChamberMaster//Event Calendar 2.0//EN
METHOD:PUBLISH
X-PUBLISHED-TTL:P3D
REFRESH-INTERVAL:P3D
CALSCALE:GREGORIAN
BEGIN:VEVENT
DTSTART:20210505T130000Z
DTEND:20210505T140000Z
X-MICROSOFT-CDO-ALLDAYEVENT:FALSE
SUMMARY:Ribbon Cutting at Eggcellent Café
DESCRIPTION:Join us to celebrate the opening of Eggcellent Caf  in the Levee District! Eggcellent offers a delicious and modern variety of breakfast and lunch options that are fresh and affordable!
X-ALT-DESC;FMTTYPE=text/html:Join us to celebrate the opening of Eggcellent Caf&eacute\; in the Levee District! Eggcellent offers a delicious and modern variety of breakfast and lunch options that are fresh and affordable!
LOCATION:
UID:e.526.6718
SEQUENCE:3
DTSTAMP:20260421T125338Z
URL:https://business.epcc.org/events/details/ribbon-cutting-at-eggcellent-caf&#233;-6718
END:VEVENT

END:VCALENDAR
