BEGIN:VCALENDAR
VERSION:2.0
PRODID:-//ChamberMaster//Event Calendar 2.0//EN
METHOD:PUBLISH
X-PUBLISHED-TTL:P3D
REFRESH-INTERVAL:P3D
CALSCALE:GREGORIAN
BEGIN:VEVENT
DTSTART:20190531T163000Z
DTEND:20190531T170000Z
X-MICROSOFT-CDO-ALLDAYEVENT:FALSE
SUMMARY:Ribbon Cutting at Guilty Pleasures Cupcake Bakery
DESCRIPTION:Join us in welcoming Guilty Pleasures Cupcake Bakery to East Peoria at their ribbon cutting.
X-ALT-DESC;FMTTYPE=text/html:Join us in welcoming Guilty Pleasures Cupcake Bakery to East Peoria at their ribbon cutting.
LOCATION:Guilty Pleasures Cupcake Bakery\, LLC 328 W. Washington St. East Peoria\, IL 61611
UID:e.526.6083
SEQUENCE:3
DTSTAMP:20260420T170211Z
URL:https://business.epcc.org/events/details/ribbon-cutting-at-guilty-pleasures-cupcake-bakery-6083
END:VEVENT

END:VCALENDAR
