BEGIN:VCALENDAR
VERSION:2.0
PRODID:-//ChamberMaster//Event Calendar 2.0//EN
METHOD:PUBLISH
X-PUBLISHED-TTL:P3D
REFRESH-INTERVAL:P3D
CALSCALE:GREGORIAN
BEGIN:VEVENT
DTSTART:20180926T213000Z
DTEND:20180927T000000Z
X-MICROSOFT-CDO-ALLDAYEVENT:FALSE
SUMMARY:Ribbon Cutting at Rocor Industries
DESCRIPTION:Please join us for a ribbon cutting at Rocor Industries!
X-ALT-DESC;FMTTYPE=text/html:Please join us for a ribbon cutting at Rocor Industries!&nbsp\;&nbsp\;&nbsp\;&nbsp\;&nbsp\;&nbsp\;&nbsp\;&nbsp\;
LOCATION:2485 Washington Road Washington\, IL
UID:e.526.5583
SEQUENCE:3
DTSTAMP:20260421T052820Z
URL:https://business.epcc.org/events/details/ribbon-cutting-at-rocor-industries-5583
END:VEVENT

END:VCALENDAR
